BEGIN:VCALENDAR
VERSION:2.0
PRODID:icalendar-ruby
CALSCALE:GREGORIAN
METHOD:PUBLISH
BEGIN:VEVENT
DTSTAMP:20260420T171737Z
UID:event-20753-2026-11-07T21:30:00+01:00-none
DTSTART;TZID=Europe/Madrid:20261107T213000
DESCRIPTION:A punto de cumplir 25 años de trayectoria\, el artista vuelve 
 a hacer lo que mejor sabe: tender puentes entre lo íntimo y lo colectivo\
 , entre lo poético y lo político. 
SUMMARY:Nacho Vegas presenta en Santander "Vidas semipreciosas"
END:VEVENT
END:VCALENDAR
