BEGIN:VCALENDAR
VERSION:2.0
PRODID:icalendar-ruby
CALSCALE:GREGORIAN
METHOD:PUBLISH
BEGIN:VEVENT
DTSTAMP:20260423T102514Z
UID:event-21169-2026-03-14T20:00:00+01:00-none
DTSTART;TZID=Europe/Madrid:20260314T200000
DESCRIPTION:Las hermanas de La Buffa nos ofrecen un auténtico viaje por la
 s relaciones más fraternales. Por ese continuo tira y afloja entre el car
 iño y el odio\, el amor y las disputas. Hay veces que la confianza da asc
 o. 
SUMMARY:"Ni fú ni fá"\, de La Buffa\, en el ciclo Mejor Reir
END:VEVENT
END:VCALENDAR
