BEGIN:VCALENDAR
VERSION:2.0
PRODID:icalendar-ruby
CALSCALE:GREGORIAN
METHOD:PUBLISH
BEGIN:VEVENT
DTSTAMP:20260423T104925Z
UID:event-4540-2023-01-16T09:30:00+01:00-none
DTSTART;TZID=Europe/Madrid:20230116T093000
DESCRIPTION:Nuevo cursillo de iniciación a la fotografía que comienza el 
 lunes 16 de enero de 2023.
SUMMARY:Nuevo cursillo de iniciación a la fotografía
END:VEVENT
BEGIN:VEVENT
DTSTAMP:20260423T104925Z
UID:event-4540-2023-01-16T19:30:00+01:00-none
DTSTART;TZID=Europe/Madrid:20230116T193000
DESCRIPTION:Nuevo cursillo de iniciación a la fotografía que comienza el 
 lunes 16 de enero de 2023.
SUMMARY:Nuevo cursillo de iniciación a la fotografía
END:VEVENT
BEGIN:VEVENT
DTSTAMP:20260423T104925Z
UID:event-4540-2023-01-17T09:30:00+01:00-none
DTSTART;TZID=Europe/Madrid:20230117T093000
DESCRIPTION:Nuevo cursillo de iniciación a la fotografía que comienza el 
 lunes 16 de enero de 2023.
SUMMARY:Nuevo cursillo de iniciación a la fotografía
END:VEVENT
BEGIN:VEVENT
DTSTAMP:20260423T104925Z
UID:event-4540-2023-01-17T19:30:00+01:00-none
DTSTART;TZID=Europe/Madrid:20230117T193000
DESCRIPTION:Nuevo cursillo de iniciación a la fotografía que comienza el 
 lunes 16 de enero de 2023.
SUMMARY:Nuevo cursillo de iniciación a la fotografía
END:VEVENT
BEGIN:VEVENT
DTSTAMP:20260423T104925Z
UID:event-4540-2023-01-18T09:30:00+01:00-none
DTSTART;TZID=Europe/Madrid:20230118T093000
DESCRIPTION:Nuevo cursillo de iniciación a la fotografía que comienza el 
 lunes 16 de enero de 2023.
SUMMARY:Nuevo cursillo de iniciación a la fotografía
END:VEVENT
BEGIN:VEVENT
DTSTAMP:20260423T104925Z
UID:event-4540-2023-01-18T19:30:00+01:00-none
DTSTART;TZID=Europe/Madrid:20230118T193000
DESCRIPTION:Nuevo cursillo de iniciación a la fotografía que comienza el 
 lunes 16 de enero de 2023.
SUMMARY:Nuevo cursillo de iniciación a la fotografía
END:VEVENT
BEGIN:VEVENT
DTSTAMP:20260423T104925Z
UID:event-4540-2023-01-19T09:30:00+01:00-none
DTSTART;TZID=Europe/Madrid:20230119T093000
DESCRIPTION:Nuevo cursillo de iniciación a la fotografía que comienza el 
 lunes 16 de enero de 2023.
SUMMARY:Nuevo cursillo de iniciación a la fotografía
END:VEVENT
BEGIN:VEVENT
DTSTAMP:20260423T104925Z
UID:event-4540-2023-01-19T19:30:00+01:00-none
DTSTART;TZID=Europe/Madrid:20230119T193000
DESCRIPTION:Nuevo cursillo de iniciación a la fotografía que comienza el 
 lunes 16 de enero de 2023.
SUMMARY:Nuevo cursillo de iniciación a la fotografía
END:VEVENT
BEGIN:VEVENT
DTSTAMP:20260423T104925Z
UID:event-4540-2023-01-20T09:30:00+01:00-none
DTSTART;TZID=Europe/Madrid:20230120T093000
DESCRIPTION:Nuevo cursillo de iniciación a la fotografía que comienza el 
 lunes 16 de enero de 2023.
SUMMARY:Nuevo cursillo de iniciación a la fotografía
END:VEVENT
BEGIN:VEVENT
DTSTAMP:20260423T104925Z
UID:event-4540-2023-01-20T19:30:00+01:00-none
DTSTART;TZID=Europe/Madrid:20230120T193000
DESCRIPTION:Nuevo cursillo de iniciación a la fotografía que comienza el 
 lunes 16 de enero de 2023.
SUMMARY:Nuevo cursillo de iniciación a la fotografía
END:VEVENT
BEGIN:VEVENT
DTSTAMP:20260423T104925Z
UID:event-4540-2023-01-21T09:30:00+01:00-none
DTSTART;TZID=Europe/Madrid:20230121T093000
DESCRIPTION:Nuevo cursillo de iniciación a la fotografía que comienza el 
 lunes 16 de enero de 2023.
SUMMARY:Nuevo cursillo de iniciación a la fotografía
END:VEVENT
BEGIN:VEVENT
DTSTAMP:20260423T104925Z
UID:event-4540-2023-01-21T19:30:00+01:00-none
DTSTART;TZID=Europe/Madrid:20230121T193000
DESCRIPTION:Nuevo cursillo de iniciación a la fotografía que comienza el 
 lunes 16 de enero de 2023.
SUMMARY:Nuevo cursillo de iniciación a la fotografía
END:VEVENT
BEGIN:VEVENT
DTSTAMP:20260423T104925Z
UID:event-4540-2023-01-22T09:30:00+01:00-none
DTSTART;TZID=Europe/Madrid:20230122T093000
DESCRIPTION:Nuevo cursillo de iniciación a la fotografía que comienza el 
 lunes 16 de enero de 2023.
SUMMARY:Nuevo cursillo de iniciación a la fotografía
END:VEVENT
BEGIN:VEVENT
DTSTAMP:20260423T104925Z
UID:event-4540-2023-01-22T19:30:00+01:00-none
DTSTART;TZID=Europe/Madrid:20230122T193000
DESCRIPTION:Nuevo cursillo de iniciación a la fotografía que comienza el 
 lunes 16 de enero de 2023.
SUMMARY:Nuevo cursillo de iniciación a la fotografía
END:VEVENT
BEGIN:VEVENT
DTSTAMP:20260423T104925Z
UID:event-4540-2023-01-23T09:30:00+01:00-none
DTSTART;TZID=Europe/Madrid:20230123T093000
DESCRIPTION:Nuevo cursillo de iniciación a la fotografía que comienza el 
 lunes 16 de enero de 2023.
SUMMARY:Nuevo cursillo de iniciación a la fotografía
END:VEVENT
BEGIN:VEVENT
DTSTAMP:20260423T104925Z
UID:event-4540-2023-01-23T19:30:00+01:00-none
DTSTART;TZID=Europe/Madrid:20230123T193000
DESCRIPTION:Nuevo cursillo de iniciación a la fotografía que comienza el 
 lunes 16 de enero de 2023.
SUMMARY:Nuevo cursillo de iniciación a la fotografía
END:VEVENT
BEGIN:VEVENT
DTSTAMP:20260423T104925Z
UID:event-4540-2023-01-24T09:30:00+01:00-none
DTSTART;TZID=Europe/Madrid:20230124T093000
DESCRIPTION:Nuevo cursillo de iniciación a la fotografía que comienza el 
 lunes 16 de enero de 2023.
SUMMARY:Nuevo cursillo de iniciación a la fotografía
END:VEVENT
BEGIN:VEVENT
DTSTAMP:20260423T104925Z
UID:event-4540-2023-01-24T19:30:00+01:00-none
DTSTART;TZID=Europe/Madrid:20230124T193000
DESCRIPTION:Nuevo cursillo de iniciación a la fotografía que comienza el 
 lunes 16 de enero de 2023.
SUMMARY:Nuevo cursillo de iniciación a la fotografía
END:VEVENT
BEGIN:VEVENT
DTSTAMP:20260423T104925Z
UID:event-4540-2023-01-25T09:30:00+01:00-none
DTSTART;TZID=Europe/Madrid:20230125T093000
DESCRIPTION:Nuevo cursillo de iniciación a la fotografía que comienza el 
 lunes 16 de enero de 2023.
SUMMARY:Nuevo cursillo de iniciación a la fotografía
END:VEVENT
BEGIN:VEVENT
DTSTAMP:20260423T104925Z
UID:event-4540-2023-01-25T19:30:00+01:00-none
DTSTART;TZID=Europe/Madrid:20230125T193000
DESCRIPTION:Nuevo cursillo de iniciación a la fotografía que comienza el 
 lunes 16 de enero de 2023.
SUMMARY:Nuevo cursillo de iniciación a la fotografía
END:VEVENT
BEGIN:VEVENT
DTSTAMP:20260423T104925Z
UID:event-4540-2023-01-26T09:30:00+01:00-none
DTSTART;TZID=Europe/Madrid:20230126T093000
DESCRIPTION:Nuevo cursillo de iniciación a la fotografía que comienza el 
 lunes 16 de enero de 2023.
SUMMARY:Nuevo cursillo de iniciación a la fotografía
END:VEVENT
BEGIN:VEVENT
DTSTAMP:20260423T104925Z
UID:event-4540-2023-01-26T19:30:00+01:00-none
DTSTART;TZID=Europe/Madrid:20230126T193000
DESCRIPTION:Nuevo cursillo de iniciación a la fotografía que comienza el 
 lunes 16 de enero de 2023.
SUMMARY:Nuevo cursillo de iniciación a la fotografía
END:VEVENT
BEGIN:VEVENT
DTSTAMP:20260423T104925Z
UID:event-4540-2023-01-27T09:30:00+01:00-none
DTSTART;TZID=Europe/Madrid:20230127T093000
DESCRIPTION:Nuevo cursillo de iniciación a la fotografía que comienza el 
 lunes 16 de enero de 2023.
SUMMARY:Nuevo cursillo de iniciación a la fotografía
END:VEVENT
BEGIN:VEVENT
DTSTAMP:20260423T104925Z
UID:event-4540-2023-01-27T19:30:00+01:00-none
DTSTART;TZID=Europe/Madrid:20230127T193000
DESCRIPTION:Nuevo cursillo de iniciación a la fotografía que comienza el 
 lunes 16 de enero de 2023.
SUMMARY:Nuevo cursillo de iniciación a la fotografía
END:VEVENT
BEGIN:VEVENT
DTSTAMP:20260423T104925Z
UID:event-4540-2023-01-28T09:30:00+01:00-none
DTSTART;TZID=Europe/Madrid:20230128T093000
DESCRIPTION:Nuevo cursillo de iniciación a la fotografía que comienza el 
 lunes 16 de enero de 2023.
SUMMARY:Nuevo cursillo de iniciación a la fotografía
END:VEVENT
BEGIN:VEVENT
DTSTAMP:20260423T104925Z
UID:event-4540-2023-01-28T19:30:00+01:00-none
DTSTART;TZID=Europe/Madrid:20230128T193000
DESCRIPTION:Nuevo cursillo de iniciación a la fotografía que comienza el 
 lunes 16 de enero de 2023.
SUMMARY:Nuevo cursillo de iniciación a la fotografía
END:VEVENT
BEGIN:VEVENT
DTSTAMP:20260423T104925Z
UID:event-4540-2023-01-29T09:30:00+01:00-none
DTSTART;TZID=Europe/Madrid:20230129T093000
DESCRIPTION:Nuevo cursillo de iniciación a la fotografía que comienza el 
 lunes 16 de enero de 2023.
SUMMARY:Nuevo cursillo de iniciación a la fotografía
END:VEVENT
BEGIN:VEVENT
DTSTAMP:20260423T104925Z
UID:event-4540-2023-01-29T19:30:00+01:00-none
DTSTART;TZID=Europe/Madrid:20230129T193000
DESCRIPTION:Nuevo cursillo de iniciación a la fotografía que comienza el 
 lunes 16 de enero de 2023.
SUMMARY:Nuevo cursillo de iniciación a la fotografía
END:VEVENT
BEGIN:VEVENT
DTSTAMP:20260423T104925Z
UID:event-4540-2023-01-30T09:30:00+01:00-none
DTSTART;TZID=Europe/Madrid:20230130T093000
DESCRIPTION:Nuevo cursillo de iniciación a la fotografía que comienza el 
 lunes 16 de enero de 2023.
SUMMARY:Nuevo cursillo de iniciación a la fotografía
END:VEVENT
BEGIN:VEVENT
DTSTAMP:20260423T104925Z
UID:event-4540-2023-01-30T19:30:00+01:00-none
DTSTART;TZID=Europe/Madrid:20230130T193000
DESCRIPTION:Nuevo cursillo de iniciación a la fotografía que comienza el 
 lunes 16 de enero de 2023.
SUMMARY:Nuevo cursillo de iniciación a la fotografía
END:VEVENT
BEGIN:VEVENT
DTSTAMP:20260423T104925Z
UID:event-4540-2023-01-31T09:30:00+01:00-none
DTSTART;TZID=Europe/Madrid:20230131T093000
DESCRIPTION:Nuevo cursillo de iniciación a la fotografía que comienza el 
 lunes 16 de enero de 2023.
SUMMARY:Nuevo cursillo de iniciación a la fotografía
END:VEVENT
BEGIN:VEVENT
DTSTAMP:20260423T104925Z
UID:event-4540-2023-01-31T19:30:00+01:00-none
DTSTART;TZID=Europe/Madrid:20230131T193000
DESCRIPTION:Nuevo cursillo de iniciación a la fotografía que comienza el 
 lunes 16 de enero de 2023.
SUMMARY:Nuevo cursillo de iniciación a la fotografía
END:VEVENT
BEGIN:VEVENT
DTSTAMP:20260423T104925Z
UID:event-4540-2023-02-01T09:30:00+01:00-none
DTSTART;TZID=Europe/Madrid:20230201T093000
DESCRIPTION:Nuevo cursillo de iniciación a la fotografía que comienza el 
 lunes 16 de enero de 2023.
SUMMARY:Nuevo cursillo de iniciación a la fotografía
END:VEVENT
BEGIN:VEVENT
DTSTAMP:20260423T104925Z
UID:event-4540-2023-02-01T19:30:00+01:00-none
DTSTART;TZID=Europe/Madrid:20230201T193000
DESCRIPTION:Nuevo cursillo de iniciación a la fotografía que comienza el 
 lunes 16 de enero de 2023.
SUMMARY:Nuevo cursillo de iniciación a la fotografía
END:VEVENT
BEGIN:VEVENT
DTSTAMP:20260423T104925Z
UID:event-4540-2023-02-02T09:30:00+01:00-none
DTSTART;TZID=Europe/Madrid:20230202T093000
DESCRIPTION:Nuevo cursillo de iniciación a la fotografía que comienza el 
 lunes 16 de enero de 2023.
SUMMARY:Nuevo cursillo de iniciación a la fotografía
END:VEVENT
BEGIN:VEVENT
DTSTAMP:20260423T104925Z
UID:event-4540-2023-02-02T19:30:00+01:00-none
DTSTART;TZID=Europe/Madrid:20230202T193000
DESCRIPTION:Nuevo cursillo de iniciación a la fotografía que comienza el 
 lunes 16 de enero de 2023.
SUMMARY:Nuevo cursillo de iniciación a la fotografía
END:VEVENT
BEGIN:VEVENT
DTSTAMP:20260423T104925Z
UID:event-4540-2023-02-03T09:30:00+01:00-none
DTSTART;TZID=Europe/Madrid:20230203T093000
DESCRIPTION:Nuevo cursillo de iniciación a la fotografía que comienza el 
 lunes 16 de enero de 2023.
SUMMARY:Nuevo cursillo de iniciación a la fotografía
END:VEVENT
BEGIN:VEVENT
DTSTAMP:20260423T104925Z
UID:event-4540-2023-02-03T19:30:00+01:00-none
DTSTART;TZID=Europe/Madrid:20230203T193000
DESCRIPTION:Nuevo cursillo de iniciación a la fotografía que comienza el 
 lunes 16 de enero de 2023.
SUMMARY:Nuevo cursillo de iniciación a la fotografía
END:VEVENT
BEGIN:VEVENT
DTSTAMP:20260423T104925Z
UID:event-4540-2023-02-04T09:30:00+01:00-none
DTSTART;TZID=Europe/Madrid:20230204T093000
DESCRIPTION:Nuevo cursillo de iniciación a la fotografía que comienza el 
 lunes 16 de enero de 2023.
SUMMARY:Nuevo cursillo de iniciación a la fotografía
END:VEVENT
BEGIN:VEVENT
DTSTAMP:20260423T104925Z
UID:event-4540-2023-02-04T19:30:00+01:00-none
DTSTART;TZID=Europe/Madrid:20230204T193000
DESCRIPTION:Nuevo cursillo de iniciación a la fotografía que comienza el 
 lunes 16 de enero de 2023.
SUMMARY:Nuevo cursillo de iniciación a la fotografía
END:VEVENT
BEGIN:VEVENT
DTSTAMP:20260423T104925Z
UID:event-4540-2023-02-05T09:30:00+01:00-none
DTSTART;TZID=Europe/Madrid:20230205T093000
DESCRIPTION:Nuevo cursillo de iniciación a la fotografía que comienza el 
 lunes 16 de enero de 2023.
SUMMARY:Nuevo cursillo de iniciación a la fotografía
END:VEVENT
BEGIN:VEVENT
DTSTAMP:20260423T104925Z
UID:event-4540-2023-02-05T19:30:00+01:00-none
DTSTART;TZID=Europe/Madrid:20230205T193000
DESCRIPTION:Nuevo cursillo de iniciación a la fotografía que comienza el 
 lunes 16 de enero de 2023.
SUMMARY:Nuevo cursillo de iniciación a la fotografía
END:VEVENT
BEGIN:VEVENT
DTSTAMP:20260423T104925Z
UID:event-4540-2023-02-06T09:30:00+01:00-none
DTSTART;TZID=Europe/Madrid:20230206T093000
DESCRIPTION:Nuevo cursillo de iniciación a la fotografía que comienza el 
 lunes 16 de enero de 2023.
SUMMARY:Nuevo cursillo de iniciación a la fotografía
END:VEVENT
BEGIN:VEVENT
DTSTAMP:20260423T104925Z
UID:event-4540-2023-02-06T19:30:00+01:00-none
DTSTART;TZID=Europe/Madrid:20230206T193000
DESCRIPTION:Nuevo cursillo de iniciación a la fotografía que comienza el 
 lunes 16 de enero de 2023.
SUMMARY:Nuevo cursillo de iniciación a la fotografía
END:VEVENT
BEGIN:VEVENT
DTSTAMP:20260423T104925Z
UID:event-4540-2023-02-07T09:30:00+01:00-none
DTSTART;TZID=Europe/Madrid:20230207T093000
DESCRIPTION:Nuevo cursillo de iniciación a la fotografía que comienza el 
 lunes 16 de enero de 2023.
SUMMARY:Nuevo cursillo de iniciación a la fotografía
END:VEVENT
BEGIN:VEVENT
DTSTAMP:20260423T104925Z
UID:event-4540-2023-02-07T19:30:00+01:00-none
DTSTART;TZID=Europe/Madrid:20230207T193000
DESCRIPTION:Nuevo cursillo de iniciación a la fotografía que comienza el 
 lunes 16 de enero de 2023.
SUMMARY:Nuevo cursillo de iniciación a la fotografía
END:VEVENT
BEGIN:VEVENT
DTSTAMP:20260423T104925Z
UID:event-4540-2023-02-08T09:30:00+01:00-none
DTSTART;TZID=Europe/Madrid:20230208T093000
DESCRIPTION:Nuevo cursillo de iniciación a la fotografía que comienza el 
 lunes 16 de enero de 2023.
SUMMARY:Nuevo cursillo de iniciación a la fotografía
END:VEVENT
BEGIN:VEVENT
DTSTAMP:20260423T104925Z
UID:event-4540-2023-02-08T19:30:00+01:00-none
DTSTART;TZID=Europe/Madrid:20230208T193000
DESCRIPTION:Nuevo cursillo de iniciación a la fotografía que comienza el 
 lunes 16 de enero de 2023.
SUMMARY:Nuevo cursillo de iniciación a la fotografía
END:VEVENT
BEGIN:VEVENT
DTSTAMP:20260423T104925Z
UID:event-4540-2023-02-09T09:30:00+01:00-none
DTSTART;TZID=Europe/Madrid:20230209T093000
DESCRIPTION:Nuevo cursillo de iniciación a la fotografía que comienza el 
 lunes 16 de enero de 2023.
SUMMARY:Nuevo cursillo de iniciación a la fotografía
END:VEVENT
BEGIN:VEVENT
DTSTAMP:20260423T104925Z
UID:event-4540-2023-02-09T19:30:00+01:00-none
DTSTART;TZID=Europe/Madrid:20230209T193000
DESCRIPTION:Nuevo cursillo de iniciación a la fotografía que comienza el 
 lunes 16 de enero de 2023.
SUMMARY:Nuevo cursillo de iniciación a la fotografía
END:VEVENT
BEGIN:VEVENT
DTSTAMP:20260423T104925Z
UID:event-4540-2023-02-10T09:30:00+01:00-none
DTSTART;TZID=Europe/Madrid:20230210T093000
DESCRIPTION:Nuevo cursillo de iniciación a la fotografía que comienza el 
 lunes 16 de enero de 2023.
SUMMARY:Nuevo cursillo de iniciación a la fotografía
END:VEVENT
BEGIN:VEVENT
DTSTAMP:20260423T104925Z
UID:event-4540-2023-02-10T19:30:00+01:00-none
DTSTART;TZID=Europe/Madrid:20230210T193000
DESCRIPTION:Nuevo cursillo de iniciación a la fotografía que comienza el 
 lunes 16 de enero de 2023.
SUMMARY:Nuevo cursillo de iniciación a la fotografía
END:VEVENT
BEGIN:VEVENT
DTSTAMP:20260423T104925Z
UID:event-4540-2023-02-11T09:30:00+01:00-none
DTSTART;TZID=Europe/Madrid:20230211T093000
DESCRIPTION:Nuevo cursillo de iniciación a la fotografía que comienza el 
 lunes 16 de enero de 2023.
SUMMARY:Nuevo cursillo de iniciación a la fotografía
END:VEVENT
BEGIN:VEVENT
DTSTAMP:20260423T104925Z
UID:event-4540-2023-02-11T19:30:00+01:00-none
DTSTART;TZID=Europe/Madrid:20230211T193000
DESCRIPTION:Nuevo cursillo de iniciación a la fotografía que comienza el 
 lunes 16 de enero de 2023.
SUMMARY:Nuevo cursillo de iniciación a la fotografía
END:VEVENT
BEGIN:VEVENT
DTSTAMP:20260423T104925Z
UID:event-4540-2023-02-12T09:30:00+01:00-none
DTSTART;TZID=Europe/Madrid:20230212T093000
DESCRIPTION:Nuevo cursillo de iniciación a la fotografía que comienza el 
 lunes 16 de enero de 2023.
SUMMARY:Nuevo cursillo de iniciación a la fotografía
END:VEVENT
BEGIN:VEVENT
DTSTAMP:20260423T104925Z
UID:event-4540-2023-02-12T19:30:00+01:00-none
DTSTART;TZID=Europe/Madrid:20230212T193000
DESCRIPTION:Nuevo cursillo de iniciación a la fotografía que comienza el 
 lunes 16 de enero de 2023.
SUMMARY:Nuevo cursillo de iniciación a la fotografía
END:VEVENT
BEGIN:VEVENT
DTSTAMP:20260423T104925Z
UID:event-4540-2023-02-13T09:30:00+01:00-none
DTSTART;TZID=Europe/Madrid:20230213T093000
DESCRIPTION:Nuevo cursillo de iniciación a la fotografía que comienza el 
 lunes 16 de enero de 2023.
SUMMARY:Nuevo cursillo de iniciación a la fotografía
END:VEVENT
BEGIN:VEVENT
DTSTAMP:20260423T104925Z
UID:event-4540-2023-02-13T19:30:00+01:00-none
DTSTART;TZID=Europe/Madrid:20230213T193000
DESCRIPTION:Nuevo cursillo de iniciación a la fotografía que comienza el 
 lunes 16 de enero de 2023.
SUMMARY:Nuevo cursillo de iniciación a la fotografía
END:VEVENT
BEGIN:VEVENT
DTSTAMP:20260423T104925Z
UID:event-4540-2023-02-14T09:30:00+01:00-none
DTSTART;TZID=Europe/Madrid:20230214T093000
DESCRIPTION:Nuevo cursillo de iniciación a la fotografía que comienza el 
 lunes 16 de enero de 2023.
SUMMARY:Nuevo cursillo de iniciación a la fotografía
END:VEVENT
BEGIN:VEVENT
DTSTAMP:20260423T104925Z
UID:event-4540-2023-02-14T19:30:00+01:00-none
DTSTART;TZID=Europe/Madrid:20230214T193000
DESCRIPTION:Nuevo cursillo de iniciación a la fotografía que comienza el 
 lunes 16 de enero de 2023.
SUMMARY:Nuevo cursillo de iniciación a la fotografía
END:VEVENT
BEGIN:VEVENT
DTSTAMP:20260423T104925Z
UID:event-4540-2023-02-15T09:30:00+01:00-none
DTSTART;TZID=Europe/Madrid:20230215T093000
DESCRIPTION:Nuevo cursillo de iniciación a la fotografía que comienza el 
 lunes 16 de enero de 2023.
SUMMARY:Nuevo cursillo de iniciación a la fotografía
END:VEVENT
BEGIN:VEVENT
DTSTAMP:20260423T104925Z
UID:event-4540-2023-02-15T19:30:00+01:00-none
DTSTART;TZID=Europe/Madrid:20230215T193000
DESCRIPTION:Nuevo cursillo de iniciación a la fotografía que comienza el 
 lunes 16 de enero de 2023.
SUMMARY:Nuevo cursillo de iniciación a la fotografía
END:VEVENT
BEGIN:VEVENT
DTSTAMP:20260423T104925Z
UID:event-4540-2023-02-16T09:30:00+01:00-none
DTSTART;TZID=Europe/Madrid:20230216T093000
DESCRIPTION:Nuevo cursillo de iniciación a la fotografía que comienza el 
 lunes 16 de enero de 2023.
SUMMARY:Nuevo cursillo de iniciación a la fotografía
END:VEVENT
BEGIN:VEVENT
DTSTAMP:20260423T104925Z
UID:event-4540-2023-02-16T19:30:00+01:00-none
DTSTART;TZID=Europe/Madrid:20230216T193000
DESCRIPTION:Nuevo cursillo de iniciación a la fotografía que comienza el 
 lunes 16 de enero de 2023.
SUMMARY:Nuevo cursillo de iniciación a la fotografía
END:VEVENT
BEGIN:VEVENT
DTSTAMP:20260423T104925Z
UID:event-4540-2023-02-17T09:30:00+01:00-none
DTSTART;TZID=Europe/Madrid:20230217T093000
DESCRIPTION:Nuevo cursillo de iniciación a la fotografía que comienza el 
 lunes 16 de enero de 2023.
SUMMARY:Nuevo cursillo de iniciación a la fotografía
END:VEVENT
BEGIN:VEVENT
DTSTAMP:20260423T104925Z
UID:event-4540-2023-02-17T19:30:00+01:00-none
DTSTART;TZID=Europe/Madrid:20230217T193000
DESCRIPTION:Nuevo cursillo de iniciación a la fotografía que comienza el 
 lunes 16 de enero de 2023.
SUMMARY:Nuevo cursillo de iniciación a la fotografía
END:VEVENT
BEGIN:VEVENT
DTSTAMP:20260423T104925Z
UID:event-4540-2023-02-18T09:30:00+01:00-none
DTSTART;TZID=Europe/Madrid:20230218T093000
DESCRIPTION:Nuevo cursillo de iniciación a la fotografía que comienza el 
 lunes 16 de enero de 2023.
SUMMARY:Nuevo cursillo de iniciación a la fotografía
END:VEVENT
BEGIN:VEVENT
DTSTAMP:20260423T104925Z
UID:event-4540-2023-02-18T19:30:00+01:00-none
DTSTART;TZID=Europe/Madrid:20230218T193000
DESCRIPTION:Nuevo cursillo de iniciación a la fotografía que comienza el 
 lunes 16 de enero de 2023.
SUMMARY:Nuevo cursillo de iniciación a la fotografía
END:VEVENT
BEGIN:VEVENT
DTSTAMP:20260423T104925Z
UID:event-4540-2023-02-19T09:30:00+01:00-none
DTSTART;TZID=Europe/Madrid:20230219T093000
DESCRIPTION:Nuevo cursillo de iniciación a la fotografía que comienza el 
 lunes 16 de enero de 2023.
SUMMARY:Nuevo cursillo de iniciación a la fotografía
END:VEVENT
BEGIN:VEVENT
DTSTAMP:20260423T104925Z
UID:event-4540-2023-02-19T19:30:00+01:00-none
DTSTART;TZID=Europe/Madrid:20230219T193000
DESCRIPTION:Nuevo cursillo de iniciación a la fotografía que comienza el 
 lunes 16 de enero de 2023.
SUMMARY:Nuevo cursillo de iniciación a la fotografía
END:VEVENT
END:VCALENDAR
