BEGIN:VCALENDAR
VERSION:2.0
PRODID:icalendar-ruby
CALSCALE:GREGORIAN
METHOD:PUBLISH
BEGIN:VEVENT
DTSTAMP:20260422T015750Z
UID:event-21586-2026-04-01T11:00:00+02:00-none
DTSTART;TZID=Europe/Madrid:20260401T110000
DESCRIPTION:El Planetario es un medio de enseñanza excelente para iniciar 
 a las personas que lo visitan en el mundo de la astronomía\, para fines d
 idácticos de los centros de enseñanza y para escuelas de náutica y de a
 eronáutica.
SUMMARY:Planetario de la UC. Sesiones de abril
END:VEVENT
BEGIN:VEVENT
DTSTAMP:20260422T015750Z
UID:event-21586-2026-04-01T12:00:00+02:00-none
DTSTART;TZID=Europe/Madrid:20260401T120000
DESCRIPTION:El Planetario es un medio de enseñanza excelente para iniciar 
 a las personas que lo visitan en el mundo de la astronomía\, para fines d
 idácticos de los centros de enseñanza y para escuelas de náutica y de a
 eronáutica.
SUMMARY:Planetario de la UC. Sesiones de abril
END:VEVENT
BEGIN:VEVENT
DTSTAMP:20260422T015750Z
UID:event-21586-2026-04-01T13:00:00+02:00-none
DTSTART;TZID=Europe/Madrid:20260401T130000
DESCRIPTION:El Planetario es un medio de enseñanza excelente para iniciar 
 a las personas que lo visitan en el mundo de la astronomía\, para fines d
 idácticos de los centros de enseñanza y para escuelas de náutica y de a
 eronáutica.
SUMMARY:Planetario de la UC. Sesiones de abril
END:VEVENT
BEGIN:VEVENT
DTSTAMP:20260422T015750Z
UID:event-21586-2026-04-24T16:00:00+02:00-none
DTSTART;TZID=Europe/Madrid:20260424T160000
DESCRIPTION:El Planetario es un medio de enseñanza excelente para iniciar 
 a las personas que lo visitan en el mundo de la astronomía\, para fines d
 idácticos de los centros de enseñanza y para escuelas de náutica y de a
 eronáutica.
SUMMARY:Planetario de la UC. Sesiones de abril
END:VEVENT
BEGIN:VEVENT
DTSTAMP:20260422T015750Z
UID:event-21586-2026-04-24T17:00:00+02:00-none
DTSTART;TZID=Europe/Madrid:20260424T170000
DESCRIPTION:El Planetario es un medio de enseñanza excelente para iniciar 
 a las personas que lo visitan en el mundo de la astronomía\, para fines d
 idácticos de los centros de enseñanza y para escuelas de náutica y de a
 eronáutica.
SUMMARY:Planetario de la UC. Sesiones de abril
END:VEVENT
BEGIN:VEVENT
DTSTAMP:20260422T015750Z
UID:event-21586-2026-04-24T18:00:00+02:00-none
DTSTART;TZID=Europe/Madrid:20260424T180000
DESCRIPTION:El Planetario es un medio de enseñanza excelente para iniciar 
 a las personas que lo visitan en el mundo de la astronomía\, para fines d
 idácticos de los centros de enseñanza y para escuelas de náutica y de a
 eronáutica.
SUMMARY:Planetario de la UC. Sesiones de abril
END:VEVENT
BEGIN:VEVENT
DTSTAMP:20260422T015750Z
UID:event-21586-2026-04-24T19:00:00+02:00-none
DTSTART;TZID=Europe/Madrid:20260424T190000
DESCRIPTION:El Planetario es un medio de enseñanza excelente para iniciar 
 a las personas que lo visitan en el mundo de la astronomía\, para fines d
 idácticos de los centros de enseñanza y para escuelas de náutica y de a
 eronáutica.
SUMMARY:Planetario de la UC. Sesiones de abril
END:VEVENT
END:VCALENDAR
