BEGIN:VCALENDAR
VERSION:2.0
PRODID:icalendar-ruby
CALSCALE:GREGORIAN
METHOD:PUBLISH
BEGIN:VEVENT
DTSTAMP:20260422T015731Z
UID:event-21593-2026-06-05T16:00:00+02:00-none
DTSTART;TZID=Europe/Madrid:20260605T160000
DESCRIPTION:El Planetario es un medio de enseñanza excelente para iniciar 
 a las personas que lo visitan en el mundo de la astronomía\, para fines d
 idácticos de los centros de enseñanza y para escuelas de náutica y de a
 eronáutica.
SUMMARY:Planetario de la UC. Sesiones de junio
END:VEVENT
BEGIN:VEVENT
DTSTAMP:20260422T015731Z
UID:event-21593-2026-06-05T17:00:00+02:00-none
DTSTART;TZID=Europe/Madrid:20260605T170000
DESCRIPTION:El Planetario es un medio de enseñanza excelente para iniciar 
 a las personas que lo visitan en el mundo de la astronomía\, para fines d
 idácticos de los centros de enseñanza y para escuelas de náutica y de a
 eronáutica.
SUMMARY:Planetario de la UC. Sesiones de junio
END:VEVENT
BEGIN:VEVENT
DTSTAMP:20260422T015731Z
UID:event-21593-2026-06-05T18:00:00+02:00-none
DTSTART;TZID=Europe/Madrid:20260605T180000
DESCRIPTION:El Planetario es un medio de enseñanza excelente para iniciar 
 a las personas que lo visitan en el mundo de la astronomía\, para fines d
 idácticos de los centros de enseñanza y para escuelas de náutica y de a
 eronáutica.
SUMMARY:Planetario de la UC. Sesiones de junio
END:VEVENT
BEGIN:VEVENT
DTSTAMP:20260422T015731Z
UID:event-21593-2026-06-05T19:00:00+02:00-none
DTSTART;TZID=Europe/Madrid:20260605T190000
DESCRIPTION:El Planetario es un medio de enseñanza excelente para iniciar 
 a las personas que lo visitan en el mundo de la astronomía\, para fines d
 idácticos de los centros de enseñanza y para escuelas de náutica y de a
 eronáutica.
SUMMARY:Planetario de la UC. Sesiones de junio
END:VEVENT
BEGIN:VEVENT
DTSTAMP:20260422T015731Z
UID:event-21593-2026-06-12T16:00:00+02:00-none
DTSTART;TZID=Europe/Madrid:20260612T160000
DESCRIPTION:El Planetario es un medio de enseñanza excelente para iniciar 
 a las personas que lo visitan en el mundo de la astronomía\, para fines d
 idácticos de los centros de enseñanza y para escuelas de náutica y de a
 eronáutica.
SUMMARY:Planetario de la UC. Sesiones de junio
END:VEVENT
BEGIN:VEVENT
DTSTAMP:20260422T015731Z
UID:event-21593-2026-06-12T17:00:00+02:00-none
DTSTART;TZID=Europe/Madrid:20260612T170000
DESCRIPTION:El Planetario es un medio de enseñanza excelente para iniciar 
 a las personas que lo visitan en el mundo de la astronomía\, para fines d
 idácticos de los centros de enseñanza y para escuelas de náutica y de a
 eronáutica.
SUMMARY:Planetario de la UC. Sesiones de junio
END:VEVENT
BEGIN:VEVENT
DTSTAMP:20260422T015731Z
UID:event-21593-2026-06-12T18:00:00+02:00-none
DTSTART;TZID=Europe/Madrid:20260612T180000
DESCRIPTION:El Planetario es un medio de enseñanza excelente para iniciar 
 a las personas que lo visitan en el mundo de la astronomía\, para fines d
 idácticos de los centros de enseñanza y para escuelas de náutica y de a
 eronáutica.
SUMMARY:Planetario de la UC. Sesiones de junio
END:VEVENT
BEGIN:VEVENT
DTSTAMP:20260422T015731Z
UID:event-21593-2026-06-12T19:00:00+02:00-none
DTSTART;TZID=Europe/Madrid:20260612T190000
DESCRIPTION:El Planetario es un medio de enseñanza excelente para iniciar 
 a las personas que lo visitan en el mundo de la astronomía\, para fines d
 idácticos de los centros de enseñanza y para escuelas de náutica y de a
 eronáutica.
SUMMARY:Planetario de la UC. Sesiones de junio
END:VEVENT
BEGIN:VEVENT
DTSTAMP:20260422T015731Z
UID:event-21593-2026-06-19T16:00:00+02:00-none
DTSTART;TZID=Europe/Madrid:20260619T160000
DESCRIPTION:El Planetario es un medio de enseñanza excelente para iniciar 
 a las personas que lo visitan en el mundo de la astronomía\, para fines d
 idácticos de los centros de enseñanza y para escuelas de náutica y de a
 eronáutica.
SUMMARY:Planetario de la UC. Sesiones de junio
END:VEVENT
BEGIN:VEVENT
DTSTAMP:20260422T015731Z
UID:event-21593-2026-06-19T17:00:00+02:00-none
DTSTART;TZID=Europe/Madrid:20260619T170000
DESCRIPTION:El Planetario es un medio de enseñanza excelente para iniciar 
 a las personas que lo visitan en el mundo de la astronomía\, para fines d
 idácticos de los centros de enseñanza y para escuelas de náutica y de a
 eronáutica.
SUMMARY:Planetario de la UC. Sesiones de junio
END:VEVENT
BEGIN:VEVENT
DTSTAMP:20260422T015731Z
UID:event-21593-2026-06-19T18:00:00+02:00-none
DTSTART;TZID=Europe/Madrid:20260619T180000
DESCRIPTION:El Planetario es un medio de enseñanza excelente para iniciar 
 a las personas que lo visitan en el mundo de la astronomía\, para fines d
 idácticos de los centros de enseñanza y para escuelas de náutica y de a
 eronáutica.
SUMMARY:Planetario de la UC. Sesiones de junio
END:VEVENT
BEGIN:VEVENT
DTSTAMP:20260422T015731Z
UID:event-21593-2026-06-19T19:00:00+02:00-none
DTSTART;TZID=Europe/Madrid:20260619T190000
DESCRIPTION:El Planetario es un medio de enseñanza excelente para iniciar 
 a las personas que lo visitan en el mundo de la astronomía\, para fines d
 idácticos de los centros de enseñanza y para escuelas de náutica y de a
 eronáutica.
SUMMARY:Planetario de la UC. Sesiones de junio
END:VEVENT
BEGIN:VEVENT
DTSTAMP:20260422T015731Z
UID:event-21593-2026-06-26T15:00:00+02:00-none
DTSTART;TZID=Europe/Madrid:20260626T150000
DESCRIPTION:El Planetario es un medio de enseñanza excelente para iniciar 
 a las personas que lo visitan en el mundo de la astronomía\, para fines d
 idácticos de los centros de enseñanza y para escuelas de náutica y de a
 eronáutica.
SUMMARY:Planetario de la UC. Sesiones de junio
END:VEVENT
BEGIN:VEVENT
DTSTAMP:20260422T015731Z
UID:event-21593-2026-06-26T16:00:00+02:00-none
DTSTART;TZID=Europe/Madrid:20260626T160000
DESCRIPTION:El Planetario es un medio de enseñanza excelente para iniciar 
 a las personas que lo visitan en el mundo de la astronomía\, para fines d
 idácticos de los centros de enseñanza y para escuelas de náutica y de a
 eronáutica.
SUMMARY:Planetario de la UC. Sesiones de junio
END:VEVENT
BEGIN:VEVENT
DTSTAMP:20260422T015731Z
UID:event-21593-2026-06-26T17:00:00+02:00-none
DTSTART;TZID=Europe/Madrid:20260626T170000
DESCRIPTION:El Planetario es un medio de enseñanza excelente para iniciar 
 a las personas que lo visitan en el mundo de la astronomía\, para fines d
 idácticos de los centros de enseñanza y para escuelas de náutica y de a
 eronáutica.
SUMMARY:Planetario de la UC. Sesiones de junio
END:VEVENT
BEGIN:VEVENT
DTSTAMP:20260422T015731Z
UID:event-21593-2026-06-26T18:00:00+02:00-none
DTSTART;TZID=Europe/Madrid:20260626T180000
DESCRIPTION:El Planetario es un medio de enseñanza excelente para iniciar 
 a las personas que lo visitan en el mundo de la astronomía\, para fines d
 idácticos de los centros de enseñanza y para escuelas de náutica y de a
 eronáutica.
SUMMARY:Planetario de la UC. Sesiones de junio
END:VEVENT
END:VCALENDAR
