BEGIN:VCALENDAR
VERSION:2.0
PRODID:icalendar-ruby
CALSCALE:GREGORIAN
METHOD:PUBLISH
BEGIN:VEVENT
DTSTAMP:20260422T015632Z
UID:event-22353-2026-04-23T19:00:00+02:00-none
DTSTART;TZID=Europe/Madrid:20260423T190000
DESCRIPTION:Librería Gil celebra el Día del Libro con la presentación a 
 las 19:00 H de “Casilla vacía”\, de Santiago Mazarrasa (Alianza edito
 rial)\, y como ya es tradición\, con la actuación en concierto de Paquit
 o y el Serbio Malo a las 20:00 h.
SUMMARY:Presentación de "Casilla vacía"\, de Santiago Mazarrasa y concier
 to de Paquito y el Serbio Malo
END:VEVENT
END:VCALENDAR
