BEGIN:VCALENDAR
VERSION:2.0
PRODID:icalendar-ruby
CALSCALE:GREGORIAN
METHOD:PUBLISH
BEGIN:VEVENT
DTSTAMP:20260423T144226Z
UID:event-22431-2026-05-28T19:00:00+02:00-none
DTSTART;TZID=Europe/Madrid:20260528T190000
DESCRIPTION:Esta presentación pretende dar a conocer el libro al público 
 de Cantabria\, fomentar el interés por la lectura entre jóvenes y adulto
 s amantes del género\, y generar un espacio cultural de diálogo sobre la
  literatura fantástica contemporánea.
SUMMARY:Presentación de la novela “Ghoulish y la Guerrera del Besaya”\
 , de Josy Gracy
END:VEVENT
END:VCALENDAR
