BEGIN:VCALENDAR
VERSION:2.0
PRODID:icalendar-ruby
CALSCALE:GREGORIAN
METHOD:PUBLISH
BEGIN:VEVENT
DTSTAMP:20260423T085833Z
UID:event-16103-2025-04-16T19:00:00+02:00-none
DTSTART;TZID=Europe/Madrid:20250416T190000
DESCRIPTION:El Roto ha creado veintiún dibujos a partir del universo de Lu
 is Martín-Santos de manera que texto y dibujo se interpelan y responden p
 ara enriquecer la experiencia del lector.
SUMMARY:Presentación de "Tiempo de Silencio"\, edición ilustrada por El R
 oto
END:VEVENT
END:VCALENDAR
