BEGIN:VCALENDAR
VERSION:2.0
PRODID:icalendar-ruby
CALSCALE:GREGORIAN
METHOD:PUBLISH
BEGIN:VEVENT
DTSTAMP:20260424T121144Z
UID:event-17252-2025-06-25T19:30:00+02:00-none
DTSTART;TZID=Europe/Madrid:20250625T193000
DESCRIPTION:Con la contundencia del testimonio personal\, el rigor del aná
 lisis histórico y el filo de una prosa que no deja indiferente\, lanza un
  diagnóstico sin anestesia del camino que ha recorrido nuestra nación de
 sde la Transición hasta hoy.
SUMMARY:Presentación del libro de Iván Espinosa de los Monteros "España 
 tiene solución"
END:VEVENT
END:VCALENDAR
