BEGIN:VCALENDAR
VERSION:2.0
PRODID:icalendar-ruby
CALSCALE:GREGORIAN
METHOD:PUBLISH
BEGIN:VEVENT
DTSTAMP:20260420T171130Z
UID:event-22375-2026-04-25T21:00:00+02:00-none
DTSTART;TZID=Europe/Madrid:20260425T210000
DESCRIPTION:El plato fuerte de la noche será la actuación de Jose Antonio
  Ruiz (Casino de Solares)\, quien celebrará en formato épico el aniversa
 rio de RadioMix. Una cita obligatoria para los amantes del ritmo que defin
 ió a toda una generación.
SUMMARY:Primavera 90´s – El Sonido de los 90
END:VEVENT
END:VCALENDAR
