BEGIN:VCALENDAR
VERSION:2.0
PRODID:icalendar-ruby
CALSCALE:GREGORIAN
METHOD:PUBLISH
BEGIN:VEVENT
DTSTAMP:20260420T144058Z
UID:event-14844-2025-01-23T19:00:00+01:00-none
DTSTART;TZID=Europe/Madrid:20250123T190000
DESCRIPTION:Basel Adra\, joven activista palestino de Masafer Yatta\, en Ci
 sjordania\, lucha desde su infancia contra la expulsión masiva de su comu
 nidad por las autoridades israelíes. Documenta la erradicación a cámara
  lenta de los pueblos de su región.
SUMMARY:Proyección de la película documental “No Other Land”
END:VEVENT
END:VCALENDAR
