BEGIN:VCALENDAR
VERSION:2.0
PRODID:icalendar-ruby
CALSCALE:GREGORIAN
METHOD:PUBLISH
BEGIN:VEVENT
DTSTAMP:20260421T193804Z
UID:event-22352-2026-04-28T20:00:00+02:00-none
DTSTART;TZID=Europe/Madrid:20260428T200000
DESCRIPTION:Desde hace dos siglos\, Chorrojumo\, el que un día fue «el Re
 y de los Gitanos»\, deambula en silencio por las calles de Granada. 
SUMMARY:"Quién vio los templos caer"\, proyección y coloquio con su direc
 tora\, Lucía Selva
END:VEVENT
END:VCALENDAR
