BEGIN:VCALENDAR
VERSION:2.0
PRODID:icalendar-ruby
CALSCALE:GREGORIAN
METHOD:PUBLISH
BEGIN:VEVENT
DTSTAMP:20260423T103653Z
UID:event-12236-2024-08-02T20:00:00+02:00-none
DTSTART;TZID=Europe/Madrid:20240802T200000
DESCRIPTION:Ramdow y Lupo Vena en concierto a partir de las 20 horas en el 
 Rock Beer The New. La entrada tiene un precio de tres euros.
SUMMARY:Ramdow y Lupo Vena 
END:VEVENT
END:VCALENDAR
