BEGIN:VCALENDAR
VERSION:2.0
PRODID:icalendar-ruby
CALSCALE:GREGORIAN
METHOD:PUBLISH
BEGIN:VEVENT
DTSTAMP:20260422T015132Z
UID:event-22357-2026-04-25T11:30:00+02:00-none
DTSTART;TZID=Europe/Madrid:20260425T113000
DESCRIPTION:La librería Gil de la Plaza Pombo acoge el sábado 28 de marzo
 \, a las 11:30 h. un recital de los alumnos del Conservatorio Jesús de Mo
 nasterio. La entrada es gratuita hasta completar aforo.
SUMMARY:Recital de alumnos del conservatorio Jesús de Monasterio 
END:VEVENT
END:VCALENDAR
