BEGIN:VCALENDAR
VERSION:2.0
PRODID:icalendar-ruby
CALSCALE:GREGORIAN
METHOD:PUBLISH
BEGIN:VEVENT
DTSTAMP:20260423T090627Z
UID:event-15205-2025-04-16T19:30:00+02:00-none
DTSTART;TZID=Europe/Madrid:20250416T193000
DESCRIPTION:Jorge Balanzá presenta un recital de esencia romántica tanto 
 por la época como por la motivación expresiva de los compositores que lo
  integran.
SUMMARY:Recital de piano de Jorge Balanzá
END:VEVENT
END:VCALENDAR
