BEGIN:VCALENDAR
VERSION:2.0
PRODID:icalendar-ruby
CALSCALE:GREGORIAN
METHOD:PUBLISH
BEGIN:VEVENT
DTSTAMP:20260423T045730Z
UID:event-20302-2026-05-29T20:00:00+02:00-none
DTSTART;TZID=Europe/Madrid:20260529T200000
DESCRIPTION:Dos artistas originales. Sandra es una de las cantaoras más ve
 rsátiles y con más sabiduría flamenca de su generación\, de las que m
 ás lejos ha llevado el flamenco. David\, es uno de los nuevos talentos de
  la guitarra\, pero no uno más. 
SUMMARY:"Recordando a Marchena" con Sandra Carrasco y David de Arahal  
END:VEVENT
END:VCALENDAR
