BEGIN:VCALENDAR
VERSION:2.0
PRODID:icalendar-ruby
CALSCALE:GREGORIAN
METHOD:PUBLISH
BEGIN:VEVENT
DTSTAMP:20260420T143749Z
UID:event-22314-2026-05-04T19:00:00+02:00-none
DTSTART;TZID=Europe/Madrid:20260504T190000
DESCRIPTION:En el último año\, Dostoyevski se ha convertido en un fenóme
 no entre las generaciones de lectores más jóvenes\, atraídos\, entre ot
 ras\, por su obra corta de 1848\, “Noches blancas”. 
SUMMARY:“Revisitar los clásicos: Dostoyevski vs Nabokov”\, a cargo de 
 Luna Miguel
END:VEVENT
END:VCALENDAR
