BEGIN:VCALENDAR
VERSION:2.0
PRODID:icalendar-ruby
CALSCALE:GREGORIAN
METHOD:PUBLISH
BEGIN:VEVENT
DTSTAMP:20260423T154901Z
UID:event-15597-2025-04-20T12:00:00+02:00-none
DTSTART;TZID=Europe/Madrid:20250420T120000
DESCRIPTION:Toda la familia se merece vivir los hits de la banda de New Jer
 sey: Livin on a prayer\, You Give love a Bad Name\, It´s My Life….
SUMMARY:Rock & Family: Bon Jovi
END:VEVENT
END:VCALENDAR
