BEGIN:VCALENDAR
VERSION:2.0
PRODID:icalendar-ruby
CALSCALE:GREGORIAN
METHOD:PUBLISH
BEGIN:VEVENT
DTSTAMP:20260423T161207Z
UID:event-16446-2025-05-08T21:00:00+02:00-none
DTSTART;TZID=Europe/Madrid:20250508T210000
DESCRIPTION:Prepárate para una noche llena de energía\, clásicos inolvid
 ables y muchas sorpresas\, porque cada jueves contarán con músicos invit
 ados que se sumarán a esta celebración stoniana.
SUMMARY:Rolling Stones con 14 Cuerdas & Friends
END:VEVENT
BEGIN:VEVENT
DTSTAMP:20260423T161207Z
UID:event-16446-2025-05-15T21:00:00+02:00-none
DTSTART;TZID=Europe/Madrid:20250515T210000
DESCRIPTION:Prepárate para una noche llena de energía\, clásicos inolvid
 ables y muchas sorpresas\, porque cada jueves contarán con músicos invit
 ados que se sumarán a esta celebración stoniana.
SUMMARY:Rolling Stones con 14 Cuerdas & Friends
END:VEVENT
BEGIN:VEVENT
DTSTAMP:20260423T161207Z
UID:event-16446-2025-05-22T21:00:00+02:00-none
DTSTART;TZID=Europe/Madrid:20250522T210000
DESCRIPTION:Prepárate para una noche llena de energía\, clásicos inolvid
 ables y muchas sorpresas\, porque cada jueves contarán con músicos invit
 ados que se sumarán a esta celebración stoniana.
SUMMARY:Rolling Stones con 14 Cuerdas & Friends
END:VEVENT
BEGIN:VEVENT
DTSTAMP:20260423T161207Z
UID:event-16446-2025-05-29T21:00:00+02:00-none
DTSTART;TZID=Europe/Madrid:20250529T210000
DESCRIPTION:Prepárate para una noche llena de energía\, clásicos inolvid
 ables y muchas sorpresas\, porque cada jueves contarán con músicos invit
 ados que se sumarán a esta celebración stoniana.
SUMMARY:Rolling Stones con 14 Cuerdas & Friends
END:VEVENT
END:VCALENDAR
