BEGIN:VCALENDAR
VERSION:2.0
PRODID:icalendar-ruby
CALSCALE:GREGORIAN
METHOD:PUBLISH
BEGIN:VEVENT
DTSTAMP:20260422T015537Z
UID:event-21980-2026-04-29T19:00:00+02:00-none
DTSTART;TZID=Europe/Madrid:20260429T190000
DESCRIPTION:Pilar Iglesias Aparicio nos acercará a este organismo franquis
 ta dependiente del Ministerio de Justicia. Se visionará el corto-document
 al Els Buits sobre la vida de una superviviente.
SUMMARY:Romper el silencio: testimonios y memorias del Patronato de Protecc
 ión a la Mujer
END:VEVENT
END:VCALENDAR
