BEGIN:VCALENDAR
VERSION:2.0
PRODID:icalendar-ruby
CALSCALE:GREGORIAN
METHOD:PUBLISH
BEGIN:VEVENT
DTSTAMP:20260423T091338Z
UID:event-4631-2023-01-25T18:30:00+01:00-none
DTSTART;TZID=Europe/Madrid:20230125T183000
DESCRIPTION:La obra fusiona la presencia física de Daniel de la Hoz como a
 ctor principal con la inmersión espacio temporal en el Siglo de Oro media
 nte el uso de unas gafas especiales que permiten al público sentirse prot
 agonista de la historia.
SUMMARY:Ruido Interno fusiona interpretación y realidad virtual en "Cervan
 tes\, encantado"
END:VEVENT
BEGIN:VEVENT
DTSTAMP:20260423T091338Z
UID:event-4631-2023-01-25T19:30:00+01:00-none
DTSTART;TZID=Europe/Madrid:20230125T193000
DESCRIPTION:La obra fusiona la presencia física de Daniel de la Hoz como a
 ctor principal con la inmersión espacio temporal en el Siglo de Oro media
 nte el uso de unas gafas especiales que permiten al público sentirse prot
 agonista de la historia.
SUMMARY:Ruido Interno fusiona interpretación y realidad virtual en "Cervan
 tes\, encantado"
END:VEVENT
END:VCALENDAR
