BEGIN:VCALENDAR
VERSION:2.0
PRODID:icalendar-ruby
CALSCALE:GREGORIAN
METHOD:PUBLISH
BEGIN:VEVENT
DTSTAMP:20260423T104420Z
UID:event-11703-2024-07-09T10:00:00+02:00-none
DTSTART;TZID=Europe/Madrid:20240709T100000
DESCRIPTION:Este paseo en barco en la costa de santanderina\, consiste en u
 n itinerario guiado de 1 h y 45 min.\,  que interpreta los cimientos rocos
 os de una ciudad y los procesos que han dado lugar al paisaje de nuestro p
 resente.
SUMMARY:Rutas en barco por la Costa Quebrada de Santander 
END:VEVENT
BEGIN:VEVENT
DTSTAMP:20260423T104420Z
UID:event-11703-2024-07-23T10:00:00+02:00-none
DTSTART;TZID=Europe/Madrid:20240723T100000
DESCRIPTION:Este paseo en barco en la costa de santanderina\, consiste en u
 n itinerario guiado de 1 h y 45 min.\,  que interpreta los cimientos rocos
 os de una ciudad y los procesos que han dado lugar al paisaje de nuestro p
 resente.
SUMMARY:Rutas en barco por la Costa Quebrada de Santander 
END:VEVENT
BEGIN:VEVENT
DTSTAMP:20260423T104421Z
UID:event-11703-2024-07-30T10:00:00+02:00-none
DTSTART;TZID=Europe/Madrid:20240730T100000
DESCRIPTION:Este paseo en barco en la costa de santanderina\, consiste en u
 n itinerario guiado de 1 h y 45 min.\,  que interpreta los cimientos rocos
 os de una ciudad y los procesos que han dado lugar al paisaje de nuestro p
 resente.
SUMMARY:Rutas en barco por la Costa Quebrada de Santander 
END:VEVENT
BEGIN:VEVENT
DTSTAMP:20260423T104421Z
UID:event-11703-2024-07-12T10:00:00+02:00-none
DTSTART;TZID=Europe/Madrid:20240712T100000
DESCRIPTION:Este paseo en barco en la costa de santanderina\, consiste en u
 n itinerario guiado de 1 h y 45 min.\,  que interpreta los cimientos rocos
 os de una ciudad y los procesos que han dado lugar al paisaje de nuestro p
 resente.
SUMMARY:Rutas en barco por la Costa Quebrada de Santander 
END:VEVENT
BEGIN:VEVENT
DTSTAMP:20260423T104421Z
UID:event-11703-2024-07-19T10:00:00+02:00-none
DTSTART;TZID=Europe/Madrid:20240719T100000
DESCRIPTION:Este paseo en barco en la costa de santanderina\, consiste en u
 n itinerario guiado de 1 h y 45 min.\,  que interpreta los cimientos rocos
 os de una ciudad y los procesos que han dado lugar al paisaje de nuestro p
 resente.
SUMMARY:Rutas en barco por la Costa Quebrada de Santander 
END:VEVENT
BEGIN:VEVENT
DTSTAMP:20260423T104421Z
UID:event-11703-2024-07-26T10:00:00+02:00-none
DTSTART;TZID=Europe/Madrid:20240726T100000
DESCRIPTION:Este paseo en barco en la costa de santanderina\, consiste en u
 n itinerario guiado de 1 h y 45 min.\,  que interpreta los cimientos rocos
 os de una ciudad y los procesos que han dado lugar al paisaje de nuestro p
 resente.
SUMMARY:Rutas en barco por la Costa Quebrada de Santander 
END:VEVENT
BEGIN:VEVENT
DTSTAMP:20260423T104421Z
UID:event-11703-2024-07-17T10:00:00+02:00-none
DTSTART;TZID=Europe/Madrid:20240717T100000
DESCRIPTION:Este paseo en barco en la costa de santanderina\, consiste en u
 n itinerario guiado de 1 h y 45 min.\,  que interpreta los cimientos rocos
 os de una ciudad y los procesos que han dado lugar al paisaje de nuestro p
 resente.
SUMMARY:Rutas en barco por la Costa Quebrada de Santander 
END:VEVENT
BEGIN:VEVENT
DTSTAMP:20260423T104421Z
UID:event-11703-2024-08-13T10:00:00+02:00-none
DTSTART;TZID=Europe/Madrid:20240813T100000
DESCRIPTION:Este paseo en barco en la costa de santanderina\, consiste en u
 n itinerario guiado de 1 h y 45 min.\,  que interpreta los cimientos rocos
 os de una ciudad y los procesos que han dado lugar al paisaje de nuestro p
 resente.
SUMMARY:Rutas en barco por la Costa Quebrada de Santander 
END:VEVENT
BEGIN:VEVENT
DTSTAMP:20260423T104421Z
UID:event-11703-2024-08-20T10:00:00+02:00-none
DTSTART;TZID=Europe/Madrid:20240820T100000
DESCRIPTION:Este paseo en barco en la costa de santanderina\, consiste en u
 n itinerario guiado de 1 h y 45 min.\,  que interpreta los cimientos rocos
 os de una ciudad y los procesos que han dado lugar al paisaje de nuestro p
 resente.
SUMMARY:Rutas en barco por la Costa Quebrada de Santander 
END:VEVENT
BEGIN:VEVENT
DTSTAMP:20260423T104421Z
UID:event-11703-2024-08-27T10:00:00+02:00-none
DTSTART;TZID=Europe/Madrid:20240827T100000
DESCRIPTION:Este paseo en barco en la costa de santanderina\, consiste en u
 n itinerario guiado de 1 h y 45 min.\,  que interpreta los cimientos rocos
 os de una ciudad y los procesos que han dado lugar al paisaje de nuestro p
 resente.
SUMMARY:Rutas en barco por la Costa Quebrada de Santander 
END:VEVENT
BEGIN:VEVENT
DTSTAMP:20260423T104421Z
UID:event-11703-2024-08-07T10:00:00+02:00-none
DTSTART;TZID=Europe/Madrid:20240807T100000
DESCRIPTION:Este paseo en barco en la costa de santanderina\, consiste en u
 n itinerario guiado de 1 h y 45 min.\,  que interpreta los cimientos rocos
 os de una ciudad y los procesos que han dado lugar al paisaje de nuestro p
 resente.
SUMMARY:Rutas en barco por la Costa Quebrada de Santander 
END:VEVENT
BEGIN:VEVENT
DTSTAMP:20260423T104421Z
UID:event-11703-2024-08-02T10:00:00+02:00-none
DTSTART;TZID=Europe/Madrid:20240802T100000
DESCRIPTION:Este paseo en barco en la costa de santanderina\, consiste en u
 n itinerario guiado de 1 h y 45 min.\,  que interpreta los cimientos rocos
 os de una ciudad y los procesos que han dado lugar al paisaje de nuestro p
 resente.
SUMMARY:Rutas en barco por la Costa Quebrada de Santander 
END:VEVENT
BEGIN:VEVENT
DTSTAMP:20260423T104421Z
UID:event-11703-2024-08-09T10:00:00+02:00-none
DTSTART;TZID=Europe/Madrid:20240809T100000
DESCRIPTION:Este paseo en barco en la costa de santanderina\, consiste en u
 n itinerario guiado de 1 h y 45 min.\,  que interpreta los cimientos rocos
 os de una ciudad y los procesos que han dado lugar al paisaje de nuestro p
 resente.
SUMMARY:Rutas en barco por la Costa Quebrada de Santander 
END:VEVENT
BEGIN:VEVENT
DTSTAMP:20260423T104421Z
UID:event-11703-2024-08-16T10:00:00+02:00-none
DTSTART;TZID=Europe/Madrid:20240816T100000
DESCRIPTION:Este paseo en barco en la costa de santanderina\, consiste en u
 n itinerario guiado de 1 h y 45 min.\,  que interpreta los cimientos rocos
 os de una ciudad y los procesos que han dado lugar al paisaje de nuestro p
 resente.
SUMMARY:Rutas en barco por la Costa Quebrada de Santander 
END:VEVENT
BEGIN:VEVENT
DTSTAMP:20260423T104421Z
UID:event-11703-2024-08-23T10:00:00+02:00-none
DTSTART;TZID=Europe/Madrid:20240823T100000
DESCRIPTION:Este paseo en barco en la costa de santanderina\, consiste en u
 n itinerario guiado de 1 h y 45 min.\,  que interpreta los cimientos rocos
 os de una ciudad y los procesos que han dado lugar al paisaje de nuestro p
 resente.
SUMMARY:Rutas en barco por la Costa Quebrada de Santander 
END:VEVENT
BEGIN:VEVENT
DTSTAMP:20260423T104421Z
UID:event-11703-2024-08-30T10:00:00+02:00-none
DTSTART;TZID=Europe/Madrid:20240830T100000
DESCRIPTION:Este paseo en barco en la costa de santanderina\, consiste en u
 n itinerario guiado de 1 h y 45 min.\,  que interpreta los cimientos rocos
 os de una ciudad y los procesos que han dado lugar al paisaje de nuestro p
 resente.
SUMMARY:Rutas en barco por la Costa Quebrada de Santander 
END:VEVENT
BEGIN:VEVENT
DTSTAMP:20260423T104421Z
UID:event-11703-2024-09-08T10:00:00+02:00-none
DTSTART;TZID=Europe/Madrid:20240908T100000
DESCRIPTION:Este paseo en barco en la costa de santanderina\, consiste en u
 n itinerario guiado de 1 h y 45 min.\,  que interpreta los cimientos rocos
 os de una ciudad y los procesos que han dado lugar al paisaje de nuestro p
 resente.
SUMMARY:Rutas en barco por la Costa Quebrada de Santander 
END:VEVENT
BEGIN:VEVENT
DTSTAMP:20260423T104421Z
UID:event-11703-2024-09-15T10:00:00+02:00-none
DTSTART;TZID=Europe/Madrid:20240915T100000
DESCRIPTION:Este paseo en barco en la costa de santanderina\, consiste en u
 n itinerario guiado de 1 h y 45 min.\,  que interpreta los cimientos rocos
 os de una ciudad y los procesos que han dado lugar al paisaje de nuestro p
 resente.
SUMMARY:Rutas en barco por la Costa Quebrada de Santander 
END:VEVENT
END:VCALENDAR
