BEGIN:VCALENDAR
VERSION:2.0
PRODID:icalendar-ruby
CALSCALE:GREGORIAN
METHOD:PUBLISH
BEGIN:VEVENT
DTSTAMP:20260421T222739Z
UID:event-22327-2026-05-23T11:30:00+02:00-none
DTSTART;TZID=Europe/Madrid:20260523T113000
DESCRIPTION:Los estudios sobre la célula comenzaron a mediados del siglo X
 VII y están ligados a la evolución del microscopio. Hoy en día no se co
 ncibe la investigación biomédica sin la ayuda de este instrumento de pre
 cisión.
SUMMARY:Sábados de Ciencia: La célula vista a través del microscopio
END:VEVENT
END:VCALENDAR
