BEGIN:VCALENDAR
VERSION:2.0
PRODID:icalendar-ruby
CALSCALE:GREGORIAN
METHOD:PUBLISH
BEGIN:VEVENT
DTSTAMP:20260420T161848Z
UID:event-20583-2026-06-26T19:00:00+02:00-none
DTSTART;TZID=Europe/Madrid:20260626T190000
DESCRIPTION:Esta banduca tradicional cántabra nació a mediados de los añ
 os 90 con el espíritu de mantener viva la esencia de la cultura de su tie
 rra. Con una formación que se basa en instrumentos como la gaita\, el tam
 bor\, el acordeón y la pandereta.
SUMMARY:Saltabardales en el ciclo "Folclore en todas las estaciones"
END:VEVENT
END:VCALENDAR
