BEGIN:VCALENDAR
VERSION:2.0
PRODID:icalendar-ruby
CALSCALE:GREGORIAN
METHOD:PUBLISH
BEGIN:VEVENT
DTSTAMP:20260420T155759Z
UID:event-22344-2026-04-25T11:00:00+02:00-none
DTSTART;TZID=Europe/Madrid:20260425T110000
DESCRIPTION:Este ejercicio de danza clásica contará con grupos de las esc
 uelas Olga Fuentes\, Raquel Puente\, Estrymens Laredo\, Estrymens Colindre
 s\, Covadonga Viadero\, Contratempo y Belín Cabrillo. 
SUMMARY:Santander\, ¡Baila!: clase de barra de ballet
END:VEVENT
END:VCALENDAR
