BEGIN:VCALENDAR
VERSION:2.0
PRODID:icalendar-ruby
CALSCALE:GREGORIAN
METHOD:PUBLISH
BEGIN:VEVENT
DTSTAMP:20260420T155936Z
UID:event-22347-2026-04-26T12:00:00+02:00-none
DTSTART;TZID=Europe/Madrid:20260426T120000
DESCRIPTION:El domingo 26\, Latin Dance\, desde la red de centros cívicos\
 , animará a bailar en doble de clases abiertas: infantil (12.00 horas) y 
 de adultos (12.30 horas). Y a partir de las 13.15 horas se celebrará una 
 ‘Sesión Vermut’.
SUMMARY:Santander\, ¡Baila!: clases abiertas de Latin Dance y exhibiciones
END:VEVENT
END:VCALENDAR
