BEGIN:VCALENDAR
VERSION:2.0
PRODID:icalendar-ruby
CALSCALE:GREGORIAN
METHOD:PUBLISH
BEGIN:VEVENT
DTSTAMP:20260420T161334Z
UID:event-22346-2026-04-25T18:00:00+02:00-none
DTSTART;TZID=Europe/Madrid:20260425T180000
DESCRIPTION:Academias de toda la ciudad mostrarán variantes coreográficas
  con grupos de diferentes edades\, algunos de competición.
SUMMARY:Santander\, ¡Baila!: Gala de Escuelas
END:VEVENT
END:VCALENDAR
