BEGIN:VCALENDAR
VERSION:2.0
PRODID:icalendar-ruby
CALSCALE:GREGORIAN
METHOD:PUBLISH
BEGIN:VEVENT
DTSTAMP:20260420T155936Z
UID:event-22345-2026-04-25T16:30:00+02:00-none
DTSTART;TZID=Europe/Madrid:20260425T163000
DESCRIPTION:‘Tarde de Feria’ contará con diferentes coreografías de f
 lamenco\, español y rumbas.  ‘Nuestras Raíces’ es una muestra protag
 onizada por la agrupación Coros y Danzas de Santander.
SUMMARY:Santander\, ¡Baila!: Tarde de Feria y espectáculo de baile tradic
 ional "Nuestras raíces"
END:VEVENT
END:VCALENDAR
