BEGIN:VCALENDAR
VERSION:2.0
PRODID:icalendar-ruby
CALSCALE:GREGORIAN
METHOD:PUBLISH
BEGIN:VEVENT
DTSTAMP:20260420T155654Z
UID:event-22343-2026-04-24T18:00:00+02:00-none
DTSTART;TZID=Europe/Madrid:20260424T180000
DESCRIPTION:Muestra de bailes urbanos con la participación de las academia
 s Olga Fuentes\, Sara Vega\, Raquel Puente\, Estrymens Laredo\, Estrymens 
 Colindres\, Dantea\, Covadonga Viadero y Contratempo. 
SUMMARY:Santander\, ¡Baila!: Urban Flow Dance
END:VEVENT
END:VCALENDAR
