BEGIN:VCALENDAR
VERSION:2.0
PRODID:icalendar-ruby
CALSCALE:GREGORIAN
METHOD:PUBLISH
BEGIN:VEVENT
DTSTAMP:20260420T160429Z
UID:event-21848-2026-05-13T19:00:00+02:00-none
DTSTART;TZID=Europe/Madrid:20260513T190000
DESCRIPTION:Bailarinas y bailarines de todas las edades mostrarán su talen
 to en los diferentes estilos coreográficos (clásico\, contemporáneo\, d
 anza española\, bailes urbanos…).
SUMMARY:Santander es danza: Bendita Locura
END:VEVENT
END:VCALENDAR
