BEGIN:VCALENDAR
VERSION:2.0
PRODID:icalendar-ruby
CALSCALE:GREGORIAN
METHOD:PUBLISH
BEGIN:VEVENT
DTSTAMP:20260420T173924Z
UID:event-21851-2026-06-18T19:00:00+02:00-none
DTSTART;TZID=Europe/Madrid:20260618T190000
DESCRIPTION:Bailarinas y bailarines de todas las edades mostrarán su talen
 to en los diferentes estilos coreográficos (clásico\, contemporáneo\, d
 anza española\, bailes urbanos…).
SUMMARY:Santander es danza: Escuela de Danza Estilo 
END:VEVENT
END:VCALENDAR
