BEGIN:VCALENDAR
VERSION:2.0
PRODID:icalendar-ruby
CALSCALE:GREGORIAN
METHOD:PUBLISH
BEGIN:VEVENT
DTSTAMP:20260420T160557Z
UID:event-21844-2026-04-28T19:00:00+02:00-none
DTSTART;TZID=Europe/Madrid:20260428T190000
DESCRIPTION:Bailarinas y bailarines de todas las edades mostrarán su talen
 to en los diferentes estilos coreográficos (clásico\, contemporáneo\, d
 anza española\, bailes urbanos…).
SUMMARY:Santander es danza: Estudio de Danza y Movimiento Begoña Machín
END:VEVENT
END:VCALENDAR
