BEGIN:VCALENDAR
VERSION:2.0
PRODID:icalendar-ruby
CALSCALE:GREGORIAN
METHOD:PUBLISH
BEGIN:VEVENT
DTSTAMP:20260420T160248Z
UID:event-21843-2026-04-22T19:00:00+02:00-none
DTSTART;TZID=Europe/Madrid:20260422T190000
DESCRIPTION:Bailarinas y bailarines de todas las edades mostrarán su talen
 to en los diferentes estilos coreográficos (clásico\, contemporáneo\, d
 anza española\, bailes urbanos…).
SUMMARY:Santander es danza: Yayavadanza
END:VEVENT
END:VCALENDAR
