BEGIN:VCALENDAR
VERSION:2.0
PRODID:icalendar-ruby
CALSCALE:GREGORIAN
METHOD:PUBLISH
BEGIN:VEVENT
DTSTAMP:20260423T085858Z
UID:event-15757-2025-04-16T19:00:00+02:00-none
DTSTART;TZID=Europe/Madrid:20250416T190000
DESCRIPTION:Un espectáculo interactivo con música\, bailes y “show” t
 elevisivo donde el conocido actor Luis Mottola conducirá al público\, en
  un intenso viaje emocional.
SUMMARY:Santander Escénica presenta “Gorila\, la jaula humana”\, de Ed
 y Asenjo&Co
END:VEVENT
END:VCALENDAR
