BEGIN:VCALENDAR
VERSION:2.0
PRODID:icalendar-ruby
CALSCALE:GREGORIAN
METHOD:PUBLISH
BEGIN:VEVENT
DTSTAMP:20260420T160735Z
UID:event-21130-2026-09-04T19:00:00+02:00-none
DTSTART;TZID=Europe/Madrid:20260904T190000
DESCRIPTION:Desapegado de géneros musicales\, Istmo pinta en sus canciones
  pequeños paisajes. Escenas nocturnas\, fragmentos de vida dibujados siem
 pre desde una óptica simbolista.
SUMMARY:Santander Sonoro 2026: Istmo en la terraza del centro cívico del R
 ío de la Pila
END:VEVENT
END:VCALENDAR
