BEGIN:VCALENDAR
VERSION:2.0
PRODID:icalendar-ruby
CALSCALE:GREGORIAN
METHOD:PUBLISH
BEGIN:VEVENT
DTSTAMP:20260420T162055Z
UID:event-21128-2026-07-03T19:00:00+02:00-none
DTSTART;TZID=Europe/Madrid:20260703T190000
DESCRIPTION:El viernes 3 de julio Los Arrancacorazones subirán a la terraz
 a del Centro Cívico Juan Carlos Calderón para ofrecer un concierto.
SUMMARY:Santander Sonoro 2026: Los Arrancacorazones en la terraza del centr
 o cívico del Río de la Pila
END:VEVENT
END:VCALENDAR
