BEGIN:VCALENDAR
VERSION:2.0
PRODID:icalendar-ruby
CALSCALE:GREGORIAN
METHOD:PUBLISH
BEGIN:VEVENT
DTSTAMP:20260420T160647Z
UID:event-21129-2026-08-21T19:00:00+02:00-none
DTSTART;TZID=Europe/Madrid:20260821T190000
DESCRIPTION:Habiendo grabado y girado con artistas de la talla de Diego Vas
 allo\, Luis Auserón y Micah P. Hinson\, con puntería encomiable editó s
 u primer LP (Alondras\, Folc Records 2020) el día en el que España entr
 ó en confinamiento.
SUMMARY:Santander Sonoro 2026: Pablo Solo en la terraza del centro cívico 
 de Tabacalera
END:VEVENT
END:VCALENDAR
