BEGIN:VCALENDAR
VERSION:2.0
PRODID:icalendar-ruby
CALSCALE:GREGORIAN
METHOD:PUBLISH
BEGIN:VEVENT
DTSTAMP:20260420T160428Z
UID:event-21127-2026-06-26T19:00:00+02:00-none
DTSTART;TZID=Europe/Madrid:20260626T190000
DESCRIPTION:Nacidos en Cantabria en 2008\, su sonido se centra en los ritmo
 s clásicos de Jamaica\, es decir: ska\, rocksteady y reggae. Desde entonc
 es hasta ahora han dado más de 100 conciertos por España\, Francia\, Ale
 mania\, Polonia\, Suiza y Bélgica.
SUMMARY:Santander Sonoro 2026: Smooth Beans en la terraza de Tabacalera
END:VEVENT
END:VCALENDAR
