BEGIN:VCALENDAR
VERSION:2.0
PRODID:icalendar-ruby
CALSCALE:GREGORIAN
METHOD:PUBLISH
BEGIN:VEVENT
DTSTAMP:20260420T171620Z
UID:event-20902-2026-12-05T21:30:00+01:00-none
DTSTART;TZID=Europe/Madrid:20261205T213000
DESCRIPTION:La banda gaditana aterrizará en la capital cántabra para ofre
 cer un espectáculo cargado de magia\, épica y esa energía festiva que s
 olo ellos saben crear sobre las tablas.
SUMMARY:Saurom\, vuelven los juglares
END:VEVENT
END:VCALENDAR
