BEGIN:VCALENDAR
VERSION:2.0
PRODID:icalendar-ruby
CALSCALE:GREGORIAN
METHOD:PUBLISH
BEGIN:VEVENT
DTSTAMP:20260423T175706Z
UID:event-20131-2026-09-13T20:00:00+02:00-none
DTSTART;TZID=Europe/Madrid:20260913T200000
DESCRIPTION:Sergio Dalma llega el 13 de septiembre al festival La Plaza San
 tander con su gira “Via Dalma”\, para hacernos vivir una noche inolvid
 able.
SUMMARY:Sergio Dalma en La Plaza 2026. Gira “Ritorno a Vía Dalma”
END:VEVENT
END:VCALENDAR
