BEGIN:VCALENDAR
VERSION:2.0
PRODID:icalendar-ruby
CALSCALE:GREGORIAN
METHOD:PUBLISH
BEGIN:VEVENT
DTSTAMP:20260420T121813Z
UID:event-21565-2026-03-07T19:00:00+01:00-2026-03-07T21:00:00+01:00
DTSTART;TZID=Europe/Madrid:20260307T190000
DTEND;TZID=Europe/Madrid:20260307T210000
DESCRIPTION:Organizada por la Comisión 8M\, esta muestra colectiva reúne 
 el trabajo de 15 mujeres creadoras en torno al universo textil\, abordado 
 y reinterpretado desde diferentes perspectivas creativas. 
SUMMARY:"Sus labores"\, exposición colectiva
END:VEVENT
BEGIN:VEVENT
DTSTAMP:20260420T121813Z
UID:event-21565-2026-03-08T19:00:00+01:00-2026-03-08T21:00:00+01:00
DTSTART;TZID=Europe/Madrid:20260308T190000
DTEND;TZID=Europe/Madrid:20260308T210000
DESCRIPTION:Organizada por la Comisión 8M\, esta muestra colectiva reúne 
 el trabajo de 15 mujeres creadoras en torno al universo textil\, abordado 
 y reinterpretado desde diferentes perspectivas creativas. 
SUMMARY:"Sus labores"\, exposición colectiva
END:VEVENT
BEGIN:VEVENT
DTSTAMP:20260420T121813Z
UID:event-21565-2026-03-10T19:00:00+01:00-2026-03-10T21:00:00+01:00
DTSTART;TZID=Europe/Madrid:20260310T190000
DTEND;TZID=Europe/Madrid:20260310T210000
DESCRIPTION:Organizada por la Comisión 8M\, esta muestra colectiva reúne 
 el trabajo de 15 mujeres creadoras en torno al universo textil\, abordado 
 y reinterpretado desde diferentes perspectivas creativas. 
SUMMARY:"Sus labores"\, exposición colectiva
END:VEVENT
BEGIN:VEVENT
DTSTAMP:20260420T121813Z
UID:event-21565-2026-03-11T19:00:00+01:00-2026-03-11T21:00:00+01:00
DTSTART;TZID=Europe/Madrid:20260311T190000
DTEND;TZID=Europe/Madrid:20260311T210000
DESCRIPTION:Organizada por la Comisión 8M\, esta muestra colectiva reúne 
 el trabajo de 15 mujeres creadoras en torno al universo textil\, abordado 
 y reinterpretado desde diferentes perspectivas creativas. 
SUMMARY:"Sus labores"\, exposición colectiva
END:VEVENT
BEGIN:VEVENT
DTSTAMP:20260420T121813Z
UID:event-21565-2026-03-12T19:00:00+01:00-2026-03-12T21:00:00+01:00
DTSTART;TZID=Europe/Madrid:20260312T190000
DTEND;TZID=Europe/Madrid:20260312T210000
DESCRIPTION:Organizada por la Comisión 8M\, esta muestra colectiva reúne 
 el trabajo de 15 mujeres creadoras en torno al universo textil\, abordado 
 y reinterpretado desde diferentes perspectivas creativas. 
SUMMARY:"Sus labores"\, exposición colectiva
END:VEVENT
BEGIN:VEVENT
DTSTAMP:20260420T121813Z
UID:event-21565-2026-03-13T19:00:00+01:00-2026-03-13T21:00:00+01:00
DTSTART;TZID=Europe/Madrid:20260313T190000
DTEND;TZID=Europe/Madrid:20260313T210000
DESCRIPTION:Organizada por la Comisión 8M\, esta muestra colectiva reúne 
 el trabajo de 15 mujeres creadoras en torno al universo textil\, abordado 
 y reinterpretado desde diferentes perspectivas creativas. 
SUMMARY:"Sus labores"\, exposición colectiva
END:VEVENT
BEGIN:VEVENT
DTSTAMP:20260420T121813Z
UID:event-21565-2026-03-14T19:00:00+01:00-2026-03-14T21:00:00+01:00
DTSTART;TZID=Europe/Madrid:20260314T190000
DTEND;TZID=Europe/Madrid:20260314T210000
DESCRIPTION:Organizada por la Comisión 8M\, esta muestra colectiva reúne 
 el trabajo de 15 mujeres creadoras en torno al universo textil\, abordado 
 y reinterpretado desde diferentes perspectivas creativas. 
SUMMARY:"Sus labores"\, exposición colectiva
END:VEVENT
BEGIN:VEVENT
DTSTAMP:20260420T121813Z
UID:event-21565-2026-03-15T19:00:00+01:00-2026-03-15T21:00:00+01:00
DTSTART;TZID=Europe/Madrid:20260315T190000
DTEND;TZID=Europe/Madrid:20260315T210000
DESCRIPTION:Organizada por la Comisión 8M\, esta muestra colectiva reúne 
 el trabajo de 15 mujeres creadoras en torno al universo textil\, abordado 
 y reinterpretado desde diferentes perspectivas creativas. 
SUMMARY:"Sus labores"\, exposición colectiva
END:VEVENT
BEGIN:VEVENT
DTSTAMP:20260420T121813Z
UID:event-21565-2026-03-17T19:00:00+01:00-2026-03-17T21:00:00+01:00
DTSTART;TZID=Europe/Madrid:20260317T190000
DTEND;TZID=Europe/Madrid:20260317T210000
DESCRIPTION:Organizada por la Comisión 8M\, esta muestra colectiva reúne 
 el trabajo de 15 mujeres creadoras en torno al universo textil\, abordado 
 y reinterpretado desde diferentes perspectivas creativas. 
SUMMARY:"Sus labores"\, exposición colectiva
END:VEVENT
BEGIN:VEVENT
DTSTAMP:20260420T121813Z
UID:event-21565-2026-03-18T19:00:00+01:00-2026-03-18T21:00:00+01:00
DTSTART;TZID=Europe/Madrid:20260318T190000
DTEND;TZID=Europe/Madrid:20260318T210000
DESCRIPTION:Organizada por la Comisión 8M\, esta muestra colectiva reúne 
 el trabajo de 15 mujeres creadoras en torno al universo textil\, abordado 
 y reinterpretado desde diferentes perspectivas creativas. 
SUMMARY:"Sus labores"\, exposición colectiva
END:VEVENT
BEGIN:VEVENT
DTSTAMP:20260420T121813Z
UID:event-21565-2026-03-19T19:00:00+01:00-2026-03-19T21:00:00+01:00
DTSTART;TZID=Europe/Madrid:20260319T190000
DTEND;TZID=Europe/Madrid:20260319T210000
DESCRIPTION:Organizada por la Comisión 8M\, esta muestra colectiva reúne 
 el trabajo de 15 mujeres creadoras en torno al universo textil\, abordado 
 y reinterpretado desde diferentes perspectivas creativas. 
SUMMARY:"Sus labores"\, exposición colectiva
END:VEVENT
BEGIN:VEVENT
DTSTAMP:20260420T121813Z
UID:event-21565-2026-03-20T19:00:00+01:00-2026-03-20T21:00:00+01:00
DTSTART;TZID=Europe/Madrid:20260320T190000
DTEND;TZID=Europe/Madrid:20260320T210000
DESCRIPTION:Organizada por la Comisión 8M\, esta muestra colectiva reúne 
 el trabajo de 15 mujeres creadoras en torno al universo textil\, abordado 
 y reinterpretado desde diferentes perspectivas creativas. 
SUMMARY:"Sus labores"\, exposición colectiva
END:VEVENT
BEGIN:VEVENT
DTSTAMP:20260420T121813Z
UID:event-21565-2026-03-21T19:00:00+01:00-2026-03-21T21:00:00+01:00
DTSTART;TZID=Europe/Madrid:20260321T190000
DTEND;TZID=Europe/Madrid:20260321T210000
DESCRIPTION:Organizada por la Comisión 8M\, esta muestra colectiva reúne 
 el trabajo de 15 mujeres creadoras en torno al universo textil\, abordado 
 y reinterpretado desde diferentes perspectivas creativas. 
SUMMARY:"Sus labores"\, exposición colectiva
END:VEVENT
BEGIN:VEVENT
DTSTAMP:20260420T121813Z
UID:event-21565-2026-03-22T19:00:00+01:00-2026-03-22T21:00:00+01:00
DTSTART;TZID=Europe/Madrid:20260322T190000
DTEND;TZID=Europe/Madrid:20260322T210000
DESCRIPTION:Organizada por la Comisión 8M\, esta muestra colectiva reúne 
 el trabajo de 15 mujeres creadoras en torno al universo textil\, abordado 
 y reinterpretado desde diferentes perspectivas creativas. 
SUMMARY:"Sus labores"\, exposición colectiva
END:VEVENT
BEGIN:VEVENT
DTSTAMP:20260420T121813Z
UID:event-21565-2026-03-24T19:00:00+01:00-2026-03-24T21:00:00+01:00
DTSTART;TZID=Europe/Madrid:20260324T190000
DTEND;TZID=Europe/Madrid:20260324T210000
DESCRIPTION:Organizada por la Comisión 8M\, esta muestra colectiva reúne 
 el trabajo de 15 mujeres creadoras en torno al universo textil\, abordado 
 y reinterpretado desde diferentes perspectivas creativas. 
SUMMARY:"Sus labores"\, exposición colectiva
END:VEVENT
BEGIN:VEVENT
DTSTAMP:20260420T121813Z
UID:event-21565-2026-03-25T19:00:00+01:00-2026-03-25T21:00:00+01:00
DTSTART;TZID=Europe/Madrid:20260325T190000
DTEND;TZID=Europe/Madrid:20260325T210000
DESCRIPTION:Organizada por la Comisión 8M\, esta muestra colectiva reúne 
 el trabajo de 15 mujeres creadoras en torno al universo textil\, abordado 
 y reinterpretado desde diferentes perspectivas creativas. 
SUMMARY:"Sus labores"\, exposición colectiva
END:VEVENT
BEGIN:VEVENT
DTSTAMP:20260420T121813Z
UID:event-21565-2026-03-26T19:00:00+01:00-2026-03-26T21:00:00+01:00
DTSTART;TZID=Europe/Madrid:20260326T190000
DTEND;TZID=Europe/Madrid:20260326T210000
DESCRIPTION:Organizada por la Comisión 8M\, esta muestra colectiva reúne 
 el trabajo de 15 mujeres creadoras en torno al universo textil\, abordado 
 y reinterpretado desde diferentes perspectivas creativas. 
SUMMARY:"Sus labores"\, exposición colectiva
END:VEVENT
BEGIN:VEVENT
DTSTAMP:20260420T121813Z
UID:event-21565-2026-03-27T19:00:00+01:00-2026-03-27T21:00:00+01:00
DTSTART;TZID=Europe/Madrid:20260327T190000
DTEND;TZID=Europe/Madrid:20260327T210000
DESCRIPTION:Organizada por la Comisión 8M\, esta muestra colectiva reúne 
 el trabajo de 15 mujeres creadoras en torno al universo textil\, abordado 
 y reinterpretado desde diferentes perspectivas creativas. 
SUMMARY:"Sus labores"\, exposición colectiva
END:VEVENT
BEGIN:VEVENT
DTSTAMP:20260420T121813Z
UID:event-21565-2026-03-28T19:00:00+01:00-2026-03-28T21:00:00+01:00
DTSTART;TZID=Europe/Madrid:20260328T190000
DTEND;TZID=Europe/Madrid:20260328T210000
DESCRIPTION:Organizada por la Comisión 8M\, esta muestra colectiva reúne 
 el trabajo de 15 mujeres creadoras en torno al universo textil\, abordado 
 y reinterpretado desde diferentes perspectivas creativas. 
SUMMARY:"Sus labores"\, exposición colectiva
END:VEVENT
BEGIN:VEVENT
DTSTAMP:20260420T121813Z
UID:event-21565-2026-03-29T19:00:00+02:00-2026-03-29T21:00:00+02:00
DTSTART;TZID=Europe/Madrid:20260329T190000
DTEND;TZID=Europe/Madrid:20260329T210000
DESCRIPTION:Organizada por la Comisión 8M\, esta muestra colectiva reúne 
 el trabajo de 15 mujeres creadoras en torno al universo textil\, abordado 
 y reinterpretado desde diferentes perspectivas creativas. 
SUMMARY:"Sus labores"\, exposición colectiva
END:VEVENT
BEGIN:VEVENT
DTSTAMP:20260420T121813Z
UID:event-21565-2026-03-31T19:00:00+02:00-2026-03-31T21:00:00+02:00
DTSTART;TZID=Europe/Madrid:20260331T190000
DTEND;TZID=Europe/Madrid:20260331T210000
DESCRIPTION:Organizada por la Comisión 8M\, esta muestra colectiva reúne 
 el trabajo de 15 mujeres creadoras en torno al universo textil\, abordado 
 y reinterpretado desde diferentes perspectivas creativas. 
SUMMARY:"Sus labores"\, exposición colectiva
END:VEVENT
BEGIN:VEVENT
DTSTAMP:20260420T121813Z
UID:event-21565-2026-04-01T19:00:00+02:00-2026-04-01T21:00:00+02:00
DTSTART;TZID=Europe/Madrid:20260401T190000
DTEND;TZID=Europe/Madrid:20260401T210000
DESCRIPTION:Organizada por la Comisión 8M\, esta muestra colectiva reúne 
 el trabajo de 15 mujeres creadoras en torno al universo textil\, abordado 
 y reinterpretado desde diferentes perspectivas creativas. 
SUMMARY:"Sus labores"\, exposición colectiva
END:VEVENT
BEGIN:VEVENT
DTSTAMP:20260420T121813Z
UID:event-21565-2026-04-02T19:00:00+02:00-2026-04-02T21:00:00+02:00
DTSTART;TZID=Europe/Madrid:20260402T190000
DTEND;TZID=Europe/Madrid:20260402T210000
DESCRIPTION:Organizada por la Comisión 8M\, esta muestra colectiva reúne 
 el trabajo de 15 mujeres creadoras en torno al universo textil\, abordado 
 y reinterpretado desde diferentes perspectivas creativas. 
SUMMARY:"Sus labores"\, exposición colectiva
END:VEVENT
BEGIN:VEVENT
DTSTAMP:20260420T121813Z
UID:event-21565-2026-04-03T19:00:00+02:00-2026-04-03T21:00:00+02:00
DTSTART;TZID=Europe/Madrid:20260403T190000
DTEND;TZID=Europe/Madrid:20260403T210000
DESCRIPTION:Organizada por la Comisión 8M\, esta muestra colectiva reúne 
 el trabajo de 15 mujeres creadoras en torno al universo textil\, abordado 
 y reinterpretado desde diferentes perspectivas creativas. 
SUMMARY:"Sus labores"\, exposición colectiva
END:VEVENT
BEGIN:VEVENT
DTSTAMP:20260420T121813Z
UID:event-21565-2026-04-04T19:00:00+02:00-2026-04-04T21:00:00+02:00
DTSTART;TZID=Europe/Madrid:20260404T190000
DTEND;TZID=Europe/Madrid:20260404T210000
DESCRIPTION:Organizada por la Comisión 8M\, esta muestra colectiva reúne 
 el trabajo de 15 mujeres creadoras en torno al universo textil\, abordado 
 y reinterpretado desde diferentes perspectivas creativas. 
SUMMARY:"Sus labores"\, exposición colectiva
END:VEVENT
BEGIN:VEVENT
DTSTAMP:20260420T121813Z
UID:event-21565-2026-04-05T19:00:00+02:00-2026-04-05T21:00:00+02:00
DTSTART;TZID=Europe/Madrid:20260405T190000
DTEND;TZID=Europe/Madrid:20260405T210000
DESCRIPTION:Organizada por la Comisión 8M\, esta muestra colectiva reúne 
 el trabajo de 15 mujeres creadoras en torno al universo textil\, abordado 
 y reinterpretado desde diferentes perspectivas creativas. 
SUMMARY:"Sus labores"\, exposición colectiva
END:VEVENT
BEGIN:VEVENT
DTSTAMP:20260420T121813Z
UID:event-21565-2026-04-07T19:00:00+02:00-2026-04-07T21:00:00+02:00
DTSTART;TZID=Europe/Madrid:20260407T190000
DTEND;TZID=Europe/Madrid:20260407T210000
DESCRIPTION:Organizada por la Comisión 8M\, esta muestra colectiva reúne 
 el trabajo de 15 mujeres creadoras en torno al universo textil\, abordado 
 y reinterpretado desde diferentes perspectivas creativas. 
SUMMARY:"Sus labores"\, exposición colectiva
END:VEVENT
BEGIN:VEVENT
DTSTAMP:20260420T121813Z
UID:event-21565-2026-04-08T19:00:00+02:00-2026-04-08T21:00:00+02:00
DTSTART;TZID=Europe/Madrid:20260408T190000
DTEND;TZID=Europe/Madrid:20260408T210000
DESCRIPTION:Organizada por la Comisión 8M\, esta muestra colectiva reúne 
 el trabajo de 15 mujeres creadoras en torno al universo textil\, abordado 
 y reinterpretado desde diferentes perspectivas creativas. 
SUMMARY:"Sus labores"\, exposición colectiva
END:VEVENT
BEGIN:VEVENT
DTSTAMP:20260420T121813Z
UID:event-21565-2026-04-09T19:00:00+02:00-2026-04-09T21:00:00+02:00
DTSTART;TZID=Europe/Madrid:20260409T190000
DTEND;TZID=Europe/Madrid:20260409T210000
DESCRIPTION:Organizada por la Comisión 8M\, esta muestra colectiva reúne 
 el trabajo de 15 mujeres creadoras en torno al universo textil\, abordado 
 y reinterpretado desde diferentes perspectivas creativas. 
SUMMARY:"Sus labores"\, exposición colectiva
END:VEVENT
BEGIN:VEVENT
DTSTAMP:20260420T121813Z
UID:event-21565-2026-04-10T19:00:00+02:00-2026-04-10T21:00:00+02:00
DTSTART;TZID=Europe/Madrid:20260410T190000
DTEND;TZID=Europe/Madrid:20260410T210000
DESCRIPTION:Organizada por la Comisión 8M\, esta muestra colectiva reúne 
 el trabajo de 15 mujeres creadoras en torno al universo textil\, abordado 
 y reinterpretado desde diferentes perspectivas creativas. 
SUMMARY:"Sus labores"\, exposición colectiva
END:VEVENT
BEGIN:VEVENT
DTSTAMP:20260420T121813Z
UID:event-21565-2026-04-11T19:00:00+02:00-2026-04-11T21:00:00+02:00
DTSTART;TZID=Europe/Madrid:20260411T190000
DTEND;TZID=Europe/Madrid:20260411T210000
DESCRIPTION:Organizada por la Comisión 8M\, esta muestra colectiva reúne 
 el trabajo de 15 mujeres creadoras en torno al universo textil\, abordado 
 y reinterpretado desde diferentes perspectivas creativas. 
SUMMARY:"Sus labores"\, exposición colectiva
END:VEVENT
BEGIN:VEVENT
DTSTAMP:20260420T121813Z
UID:event-21565-2026-04-12T19:00:00+02:00-2026-04-12T21:00:00+02:00
DTSTART;TZID=Europe/Madrid:20260412T190000
DTEND;TZID=Europe/Madrid:20260412T210000
DESCRIPTION:Organizada por la Comisión 8M\, esta muestra colectiva reúne 
 el trabajo de 15 mujeres creadoras en torno al universo textil\, abordado 
 y reinterpretado desde diferentes perspectivas creativas. 
SUMMARY:"Sus labores"\, exposición colectiva
END:VEVENT
BEGIN:VEVENT
DTSTAMP:20260420T121813Z
UID:event-21565-2026-04-14T19:00:00+02:00-2026-04-14T21:00:00+02:00
DTSTART;TZID=Europe/Madrid:20260414T190000
DTEND;TZID=Europe/Madrid:20260414T210000
DESCRIPTION:Organizada por la Comisión 8M\, esta muestra colectiva reúne 
 el trabajo de 15 mujeres creadoras en torno al universo textil\, abordado 
 y reinterpretado desde diferentes perspectivas creativas. 
SUMMARY:"Sus labores"\, exposición colectiva
END:VEVENT
BEGIN:VEVENT
DTSTAMP:20260420T121813Z
UID:event-21565-2026-04-15T19:00:00+02:00-2026-04-15T21:00:00+02:00
DTSTART;TZID=Europe/Madrid:20260415T190000
DTEND;TZID=Europe/Madrid:20260415T210000
DESCRIPTION:Organizada por la Comisión 8M\, esta muestra colectiva reúne 
 el trabajo de 15 mujeres creadoras en torno al universo textil\, abordado 
 y reinterpretado desde diferentes perspectivas creativas. 
SUMMARY:"Sus labores"\, exposición colectiva
END:VEVENT
BEGIN:VEVENT
DTSTAMP:20260420T121813Z
UID:event-21565-2026-04-16T19:00:00+02:00-2026-04-16T21:00:00+02:00
DTSTART;TZID=Europe/Madrid:20260416T190000
DTEND;TZID=Europe/Madrid:20260416T210000
DESCRIPTION:Organizada por la Comisión 8M\, esta muestra colectiva reúne 
 el trabajo de 15 mujeres creadoras en torno al universo textil\, abordado 
 y reinterpretado desde diferentes perspectivas creativas. 
SUMMARY:"Sus labores"\, exposición colectiva
END:VEVENT
BEGIN:VEVENT
DTSTAMP:20260420T121813Z
UID:event-21565-2026-04-17T19:00:00+02:00-2026-04-17T21:00:00+02:00
DTSTART;TZID=Europe/Madrid:20260417T190000
DTEND;TZID=Europe/Madrid:20260417T210000
DESCRIPTION:Organizada por la Comisión 8M\, esta muestra colectiva reúne 
 el trabajo de 15 mujeres creadoras en torno al universo textil\, abordado 
 y reinterpretado desde diferentes perspectivas creativas. 
SUMMARY:"Sus labores"\, exposición colectiva
END:VEVENT
BEGIN:VEVENT
DTSTAMP:20260420T121813Z
UID:event-21565-2026-04-18T19:00:00+02:00-2026-04-18T21:00:00+02:00
DTSTART;TZID=Europe/Madrid:20260418T190000
DTEND;TZID=Europe/Madrid:20260418T210000
DESCRIPTION:Organizada por la Comisión 8M\, esta muestra colectiva reúne 
 el trabajo de 15 mujeres creadoras en torno al universo textil\, abordado 
 y reinterpretado desde diferentes perspectivas creativas. 
SUMMARY:"Sus labores"\, exposición colectiva
END:VEVENT
BEGIN:VEVENT
DTSTAMP:20260420T121813Z
UID:event-21565-2026-04-19T19:00:00+02:00-2026-04-19T21:00:00+02:00
DTSTART;TZID=Europe/Madrid:20260419T190000
DTEND;TZID=Europe/Madrid:20260419T210000
DESCRIPTION:Organizada por la Comisión 8M\, esta muestra colectiva reúne 
 el trabajo de 15 mujeres creadoras en torno al universo textil\, abordado 
 y reinterpretado desde diferentes perspectivas creativas. 
SUMMARY:"Sus labores"\, exposición colectiva
END:VEVENT
BEGIN:VEVENT
DTSTAMP:20260420T121813Z
UID:event-21565-2026-04-21T19:00:00+02:00-2026-04-21T21:00:00+02:00
DTSTART;TZID=Europe/Madrid:20260421T190000
DTEND;TZID=Europe/Madrid:20260421T210000
DESCRIPTION:Organizada por la Comisión 8M\, esta muestra colectiva reúne 
 el trabajo de 15 mujeres creadoras en torno al universo textil\, abordado 
 y reinterpretado desde diferentes perspectivas creativas. 
SUMMARY:"Sus labores"\, exposición colectiva
END:VEVENT
BEGIN:VEVENT
DTSTAMP:20260420T121813Z
UID:event-21565-2026-04-22T19:00:00+02:00-2026-04-22T21:00:00+02:00
DTSTART;TZID=Europe/Madrid:20260422T190000
DTEND;TZID=Europe/Madrid:20260422T210000
DESCRIPTION:Organizada por la Comisión 8M\, esta muestra colectiva reúne 
 el trabajo de 15 mujeres creadoras en torno al universo textil\, abordado 
 y reinterpretado desde diferentes perspectivas creativas. 
SUMMARY:"Sus labores"\, exposición colectiva
END:VEVENT
BEGIN:VEVENT
DTSTAMP:20260420T121813Z
UID:event-21565-2026-04-23T19:00:00+02:00-2026-04-23T21:00:00+02:00
DTSTART;TZID=Europe/Madrid:20260423T190000
DTEND;TZID=Europe/Madrid:20260423T210000
DESCRIPTION:Organizada por la Comisión 8M\, esta muestra colectiva reúne 
 el trabajo de 15 mujeres creadoras en torno al universo textil\, abordado 
 y reinterpretado desde diferentes perspectivas creativas. 
SUMMARY:"Sus labores"\, exposición colectiva
END:VEVENT
BEGIN:VEVENT
DTSTAMP:20260420T121813Z
UID:event-21565-2026-04-24T19:00:00+02:00-2026-04-24T21:00:00+02:00
DTSTART;TZID=Europe/Madrid:20260424T190000
DTEND;TZID=Europe/Madrid:20260424T210000
DESCRIPTION:Organizada por la Comisión 8M\, esta muestra colectiva reúne 
 el trabajo de 15 mujeres creadoras en torno al universo textil\, abordado 
 y reinterpretado desde diferentes perspectivas creativas. 
SUMMARY:"Sus labores"\, exposición colectiva
END:VEVENT
BEGIN:VEVENT
DTSTAMP:20260420T121813Z
UID:event-21565-2026-04-25T19:00:00+02:00-2026-04-25T21:00:00+02:00
DTSTART;TZID=Europe/Madrid:20260425T190000
DTEND;TZID=Europe/Madrid:20260425T210000
DESCRIPTION:Organizada por la Comisión 8M\, esta muestra colectiva reúne 
 el trabajo de 15 mujeres creadoras en torno al universo textil\, abordado 
 y reinterpretado desde diferentes perspectivas creativas. 
SUMMARY:"Sus labores"\, exposición colectiva
END:VEVENT
BEGIN:VEVENT
DTSTAMP:20260420T121813Z
UID:event-21565-2026-04-26T19:00:00+02:00-2026-04-26T21:00:00+02:00
DTSTART;TZID=Europe/Madrid:20260426T190000
DTEND;TZID=Europe/Madrid:20260426T210000
DESCRIPTION:Organizada por la Comisión 8M\, esta muestra colectiva reúne 
 el trabajo de 15 mujeres creadoras en torno al universo textil\, abordado 
 y reinterpretado desde diferentes perspectivas creativas. 
SUMMARY:"Sus labores"\, exposición colectiva
END:VEVENT
END:VCALENDAR
