BEGIN:VCALENDAR
VERSION:2.0
PRODID:icalendar-ruby
CALSCALE:GREGORIAN
METHOD:PUBLISH
BEGIN:VEVENT
DTSTAMP:20260423T102606Z
UID:event-21600-2026-03-14T10:30:00+01:00-2026-03-14T13:30:00+01:00
DTSTART;TZID=Europe/Madrid:20260314T103000
DTEND;TZID=Europe/Madrid:20260314T133000
DESCRIPTION:En este taller nos dedicaremos a diseñar y modelar con nuestra
 s manos una taza y un platito que nos servirá como set de desayuno a jueg
 o.
SUMMARY:Taller de cerámica: crea tu set de desayuno
END:VEVENT
END:VCALENDAR
