BEGIN:VCALENDAR
VERSION:2.0
PRODID:icalendar-ruby
CALSCALE:GREGORIAN
METHOD:PUBLISH
BEGIN:VEVENT
DTSTAMP:20260423T054042Z
UID:event-22373-2026-04-24T18:00:00+02:00-2026-04-24T20:00:00+02:00
DTSTART;TZID=Europe/Madrid:20260424T180000
DTEND;TZID=Europe/Madrid:20260424T200000
DESCRIPTION:En este taller los participantes diseñarán y modelarán con s
 us manos una taza\, cuenco o un plato\, con opción de realizar su propia 
 idea siempre que encaje en el horario dispuesto para el taller.
SUMMARY:Taller de cerámica: crea tu taza\, cuenco o plato
END:VEVENT
END:VCALENDAR
