BEGIN:VCALENDAR
VERSION:2.0
PRODID:icalendar-ruby
CALSCALE:GREGORIAN
METHOD:PUBLISH
BEGIN:VEVENT
DTSTAMP:20260423T104859Z
UID:event-21203-2026-03-14T10:00:00+01:00-none
DTSTART;TZID=Europe/Madrid:20260314T100000
DESCRIPTION:Prepárate para un ritual creativo donde las hojas tiemblan\, s
 e doblan\, se retuercen y—¡pum! renacen como esculturas con alma propia
 . Aquí juegas\, creas\, te manchas los dedos y le dices adiós a lo plano
 .
SUMMARY:Taller de esculturas en papel\, por Sol Abreu
END:VEVENT
BEGIN:VEVENT
DTSTAMP:20260423T104859Z
UID:event-21203-2026-03-21T14:00:00+01:00-none
DTSTART;TZID=Europe/Madrid:20260321T140000
DESCRIPTION:Prepárate para un ritual creativo donde las hojas tiemblan\, s
 e doblan\, se retuercen y—¡pum! renacen como esculturas con alma propia
 . Aquí juegas\, creas\, te manchas los dedos y le dices adiós a lo plano
 .
SUMMARY:Taller de esculturas en papel\, por Sol Abreu
END:VEVENT
END:VCALENDAR
