BEGIN:VCALENDAR
VERSION:2.0
PRODID:icalendar-ruby
CALSCALE:GREGORIAN
METHOD:PUBLISH
BEGIN:VEVENT
DTSTAMP:20260420T110603Z
UID:event-21308-2026-03-21T09:00:00+01:00-2026-03-21T13:30:00+01:00
DTSTART;TZID=Europe/Madrid:20260321T090000
DTEND;TZID=Europe/Madrid:20260321T133000
DESCRIPTION:Taller de fotometría los días 21 y 22 de marzo en Fotografía
  Zona 5. Ponente: Manuel Alcalde.
SUMMARY:Taller de fotometría
END:VEVENT
BEGIN:VEVENT
DTSTAMP:20260420T110603Z
UID:event-21308-2026-03-22T11:00:00+01:00-2026-03-22T13:00:00+01:00
DTSTART;TZID=Europe/Madrid:20260322T110000
DTEND;TZID=Europe/Madrid:20260322T130000
DESCRIPTION:Taller de fotometría los días 21 y 22 de marzo en Fotografía
  Zona 5. Ponente: Manuel Alcalde.
SUMMARY:Taller de fotometría
END:VEVENT
END:VCALENDAR
