BEGIN:VCALENDAR
VERSION:2.0
PRODID:icalendar-ruby
CALSCALE:GREGORIAN
METHOD:PUBLISH
BEGIN:VEVENT
DTSTAMP:20260423T091325Z
UID:event-4761-2023-01-23-2023-01-23
DTSTART;VALUE=DATE:20230123
DTEND;VALUE=DATE:20230123
DESCRIPTION:Roni Horn\, en colaboración con Isabel de Naverán\, será la 
 encargada de dirigir este taller en la Fundación Botín del 20 al 24 de m
 arzo de 2023 bajo el título Being Where You are When You’re There.
SUMMARY:Taller de Roni Horn. Plazo de inscripción abierto
END:VEVENT
BEGIN:VEVENT
DTSTAMP:20260423T091325Z
UID:event-4761-2023-01-24-2023-01-24
DTSTART;VALUE=DATE:20230124
DTEND;VALUE=DATE:20230124
DESCRIPTION:Roni Horn\, en colaboración con Isabel de Naverán\, será la 
 encargada de dirigir este taller en la Fundación Botín del 20 al 24 de m
 arzo de 2023 bajo el título Being Where You are When You’re There.
SUMMARY:Taller de Roni Horn. Plazo de inscripción abierto
END:VEVENT
BEGIN:VEVENT
DTSTAMP:20260423T091325Z
UID:event-4761-2023-01-25-2023-01-25
DTSTART;VALUE=DATE:20230125
DTEND;VALUE=DATE:20230125
DESCRIPTION:Roni Horn\, en colaboración con Isabel de Naverán\, será la 
 encargada de dirigir este taller en la Fundación Botín del 20 al 24 de m
 arzo de 2023 bajo el título Being Where You are When You’re There.
SUMMARY:Taller de Roni Horn. Plazo de inscripción abierto
END:VEVENT
BEGIN:VEVENT
DTSTAMP:20260423T091325Z
UID:event-4761-2023-01-26-2023-01-26
DTSTART;VALUE=DATE:20230126
DTEND;VALUE=DATE:20230126
DESCRIPTION:Roni Horn\, en colaboración con Isabel de Naverán\, será la 
 encargada de dirigir este taller en la Fundación Botín del 20 al 24 de m
 arzo de 2023 bajo el título Being Where You are When You’re There.
SUMMARY:Taller de Roni Horn. Plazo de inscripción abierto
END:VEVENT
BEGIN:VEVENT
DTSTAMP:20260423T091325Z
UID:event-4761-2023-01-27-2023-01-27
DTSTART;VALUE=DATE:20230127
DTEND;VALUE=DATE:20230127
DESCRIPTION:Roni Horn\, en colaboración con Isabel de Naverán\, será la 
 encargada de dirigir este taller en la Fundación Botín del 20 al 24 de m
 arzo de 2023 bajo el título Being Where You are When You’re There.
SUMMARY:Taller de Roni Horn. Plazo de inscripción abierto
END:VEVENT
BEGIN:VEVENT
DTSTAMP:20260423T091325Z
UID:event-4761-2023-01-28-2023-01-28
DTSTART;VALUE=DATE:20230128
DTEND;VALUE=DATE:20230128
DESCRIPTION:Roni Horn\, en colaboración con Isabel de Naverán\, será la 
 encargada de dirigir este taller en la Fundación Botín del 20 al 24 de m
 arzo de 2023 bajo el título Being Where You are When You’re There.
SUMMARY:Taller de Roni Horn. Plazo de inscripción abierto
END:VEVENT
BEGIN:VEVENT
DTSTAMP:20260423T091325Z
UID:event-4761-2023-01-29-2023-01-29
DTSTART;VALUE=DATE:20230129
DTEND;VALUE=DATE:20230129
DESCRIPTION:Roni Horn\, en colaboración con Isabel de Naverán\, será la 
 encargada de dirigir este taller en la Fundación Botín del 20 al 24 de m
 arzo de 2023 bajo el título Being Where You are When You’re There.
SUMMARY:Taller de Roni Horn. Plazo de inscripción abierto
END:VEVENT
BEGIN:VEVENT
DTSTAMP:20260423T091325Z
UID:event-4761-2023-01-30-2023-01-30
DTSTART;VALUE=DATE:20230130
DTEND;VALUE=DATE:20230130
DESCRIPTION:Roni Horn\, en colaboración con Isabel de Naverán\, será la 
 encargada de dirigir este taller en la Fundación Botín del 20 al 24 de m
 arzo de 2023 bajo el título Being Where You are When You’re There.
SUMMARY:Taller de Roni Horn. Plazo de inscripción abierto
END:VEVENT
BEGIN:VEVENT
DTSTAMP:20260423T091325Z
UID:event-4761-2023-01-31-2023-01-31
DTSTART;VALUE=DATE:20230131
DTEND;VALUE=DATE:20230131
DESCRIPTION:Roni Horn\, en colaboración con Isabel de Naverán\, será la 
 encargada de dirigir este taller en la Fundación Botín del 20 al 24 de m
 arzo de 2023 bajo el título Being Where You are When You’re There.
SUMMARY:Taller de Roni Horn. Plazo de inscripción abierto
END:VEVENT
BEGIN:VEVENT
DTSTAMP:20260423T091325Z
UID:event-4761-2023-02-01-2023-02-01
DTSTART;VALUE=DATE:20230201
DTEND;VALUE=DATE:20230201
DESCRIPTION:Roni Horn\, en colaboración con Isabel de Naverán\, será la 
 encargada de dirigir este taller en la Fundación Botín del 20 al 24 de m
 arzo de 2023 bajo el título Being Where You are When You’re There.
SUMMARY:Taller de Roni Horn. Plazo de inscripción abierto
END:VEVENT
BEGIN:VEVENT
DTSTAMP:20260423T091325Z
UID:event-4761-2023-02-02-2023-02-02
DTSTART;VALUE=DATE:20230202
DTEND;VALUE=DATE:20230202
DESCRIPTION:Roni Horn\, en colaboración con Isabel de Naverán\, será la 
 encargada de dirigir este taller en la Fundación Botín del 20 al 24 de m
 arzo de 2023 bajo el título Being Where You are When You’re There.
SUMMARY:Taller de Roni Horn. Plazo de inscripción abierto
END:VEVENT
BEGIN:VEVENT
DTSTAMP:20260423T091325Z
UID:event-4761-2023-02-03-2023-02-03
DTSTART;VALUE=DATE:20230203
DTEND;VALUE=DATE:20230203
DESCRIPTION:Roni Horn\, en colaboración con Isabel de Naverán\, será la 
 encargada de dirigir este taller en la Fundación Botín del 20 al 24 de m
 arzo de 2023 bajo el título Being Where You are When You’re There.
SUMMARY:Taller de Roni Horn. Plazo de inscripción abierto
END:VEVENT
BEGIN:VEVENT
DTSTAMP:20260423T091325Z
UID:event-4761-2023-02-04-2023-02-04
DTSTART;VALUE=DATE:20230204
DTEND;VALUE=DATE:20230204
DESCRIPTION:Roni Horn\, en colaboración con Isabel de Naverán\, será la 
 encargada de dirigir este taller en la Fundación Botín del 20 al 24 de m
 arzo de 2023 bajo el título Being Where You are When You’re There.
SUMMARY:Taller de Roni Horn. Plazo de inscripción abierto
END:VEVENT
BEGIN:VEVENT
DTSTAMP:20260423T091325Z
UID:event-4761-2023-02-05-2023-02-05
DTSTART;VALUE=DATE:20230205
DTEND;VALUE=DATE:20230205
DESCRIPTION:Roni Horn\, en colaboración con Isabel de Naverán\, será la 
 encargada de dirigir este taller en la Fundación Botín del 20 al 24 de m
 arzo de 2023 bajo el título Being Where You are When You’re There.
SUMMARY:Taller de Roni Horn. Plazo de inscripción abierto
END:VEVENT
BEGIN:VEVENT
DTSTAMP:20260423T091325Z
UID:event-4761-2023-02-06-2023-02-06
DTSTART;VALUE=DATE:20230206
DTEND;VALUE=DATE:20230206
DESCRIPTION:Roni Horn\, en colaboración con Isabel de Naverán\, será la 
 encargada de dirigir este taller en la Fundación Botín del 20 al 24 de m
 arzo de 2023 bajo el título Being Where You are When You’re There.
SUMMARY:Taller de Roni Horn. Plazo de inscripción abierto
END:VEVENT
BEGIN:VEVENT
DTSTAMP:20260423T091325Z
UID:event-4761-2023-02-07-2023-02-07
DTSTART;VALUE=DATE:20230207
DTEND;VALUE=DATE:20230207
DESCRIPTION:Roni Horn\, en colaboración con Isabel de Naverán\, será la 
 encargada de dirigir este taller en la Fundación Botín del 20 al 24 de m
 arzo de 2023 bajo el título Being Where You are When You’re There.
SUMMARY:Taller de Roni Horn. Plazo de inscripción abierto
END:VEVENT
BEGIN:VEVENT
DTSTAMP:20260423T091325Z
UID:event-4761-2023-02-08-2023-02-08
DTSTART;VALUE=DATE:20230208
DTEND;VALUE=DATE:20230208
DESCRIPTION:Roni Horn\, en colaboración con Isabel de Naverán\, será la 
 encargada de dirigir este taller en la Fundación Botín del 20 al 24 de m
 arzo de 2023 bajo el título Being Where You are When You’re There.
SUMMARY:Taller de Roni Horn. Plazo de inscripción abierto
END:VEVENT
BEGIN:VEVENT
DTSTAMP:20260423T091325Z
UID:event-4761-2023-02-09-2023-02-09
DTSTART;VALUE=DATE:20230209
DTEND;VALUE=DATE:20230209
DESCRIPTION:Roni Horn\, en colaboración con Isabel de Naverán\, será la 
 encargada de dirigir este taller en la Fundación Botín del 20 al 24 de m
 arzo de 2023 bajo el título Being Where You are When You’re There.
SUMMARY:Taller de Roni Horn. Plazo de inscripción abierto
END:VEVENT
BEGIN:VEVENT
DTSTAMP:20260423T091325Z
UID:event-4761-2023-02-10-2023-02-10
DTSTART;VALUE=DATE:20230210
DTEND;VALUE=DATE:20230210
DESCRIPTION:Roni Horn\, en colaboración con Isabel de Naverán\, será la 
 encargada de dirigir este taller en la Fundación Botín del 20 al 24 de m
 arzo de 2023 bajo el título Being Where You are When You’re There.
SUMMARY:Taller de Roni Horn. Plazo de inscripción abierto
END:VEVENT
BEGIN:VEVENT
DTSTAMP:20260423T091325Z
UID:event-4761-2023-02-11-2023-02-11
DTSTART;VALUE=DATE:20230211
DTEND;VALUE=DATE:20230211
DESCRIPTION:Roni Horn\, en colaboración con Isabel de Naverán\, será la 
 encargada de dirigir este taller en la Fundación Botín del 20 al 24 de m
 arzo de 2023 bajo el título Being Where You are When You’re There.
SUMMARY:Taller de Roni Horn. Plazo de inscripción abierto
END:VEVENT
BEGIN:VEVENT
DTSTAMP:20260423T091325Z
UID:event-4761-2023-02-12-2023-02-12
DTSTART;VALUE=DATE:20230212
DTEND;VALUE=DATE:20230212
DESCRIPTION:Roni Horn\, en colaboración con Isabel de Naverán\, será la 
 encargada de dirigir este taller en la Fundación Botín del 20 al 24 de m
 arzo de 2023 bajo el título Being Where You are When You’re There.
SUMMARY:Taller de Roni Horn. Plazo de inscripción abierto
END:VEVENT
BEGIN:VEVENT
DTSTAMP:20260423T091325Z
UID:event-4761-2023-02-13-2023-02-13
DTSTART;VALUE=DATE:20230213
DTEND;VALUE=DATE:20230213
DESCRIPTION:Roni Horn\, en colaboración con Isabel de Naverán\, será la 
 encargada de dirigir este taller en la Fundación Botín del 20 al 24 de m
 arzo de 2023 bajo el título Being Where You are When You’re There.
SUMMARY:Taller de Roni Horn. Plazo de inscripción abierto
END:VEVENT
BEGIN:VEVENT
DTSTAMP:20260423T091325Z
UID:event-4761-2023-02-14-2023-02-14
DTSTART;VALUE=DATE:20230214
DTEND;VALUE=DATE:20230214
DESCRIPTION:Roni Horn\, en colaboración con Isabel de Naverán\, será la 
 encargada de dirigir este taller en la Fundación Botín del 20 al 24 de m
 arzo de 2023 bajo el título Being Where You are When You’re There.
SUMMARY:Taller de Roni Horn. Plazo de inscripción abierto
END:VEVENT
BEGIN:VEVENT
DTSTAMP:20260423T091325Z
UID:event-4761-2023-02-15-2023-02-15
DTSTART;VALUE=DATE:20230215
DTEND;VALUE=DATE:20230215
DESCRIPTION:Roni Horn\, en colaboración con Isabel de Naverán\, será la 
 encargada de dirigir este taller en la Fundación Botín del 20 al 24 de m
 arzo de 2023 bajo el título Being Where You are When You’re There.
SUMMARY:Taller de Roni Horn. Plazo de inscripción abierto
END:VEVENT
BEGIN:VEVENT
DTSTAMP:20260423T091325Z
UID:event-4761-2023-02-16-2023-02-16
DTSTART;VALUE=DATE:20230216
DTEND;VALUE=DATE:20230216
DESCRIPTION:Roni Horn\, en colaboración con Isabel de Naverán\, será la 
 encargada de dirigir este taller en la Fundación Botín del 20 al 24 de m
 arzo de 2023 bajo el título Being Where You are When You’re There.
SUMMARY:Taller de Roni Horn. Plazo de inscripción abierto
END:VEVENT
BEGIN:VEVENT
DTSTAMP:20260423T091325Z
UID:event-4761-2023-02-17-2023-02-17
DTSTART;VALUE=DATE:20230217
DTEND;VALUE=DATE:20230217
DESCRIPTION:Roni Horn\, en colaboración con Isabel de Naverán\, será la 
 encargada de dirigir este taller en la Fundación Botín del 20 al 24 de m
 arzo de 2023 bajo el título Being Where You are When You’re There.
SUMMARY:Taller de Roni Horn. Plazo de inscripción abierto
END:VEVENT
BEGIN:VEVENT
DTSTAMP:20260423T091325Z
UID:event-4761-2023-02-18-2023-02-18
DTSTART;VALUE=DATE:20230218
DTEND;VALUE=DATE:20230218
DESCRIPTION:Roni Horn\, en colaboración con Isabel de Naverán\, será la 
 encargada de dirigir este taller en la Fundación Botín del 20 al 24 de m
 arzo de 2023 bajo el título Being Where You are When You’re There.
SUMMARY:Taller de Roni Horn. Plazo de inscripción abierto
END:VEVENT
BEGIN:VEVENT
DTSTAMP:20260423T091325Z
UID:event-4761-2023-02-19-2023-02-19
DTSTART;VALUE=DATE:20230219
DTEND;VALUE=DATE:20230219
DESCRIPTION:Roni Horn\, en colaboración con Isabel de Naverán\, será la 
 encargada de dirigir este taller en la Fundación Botín del 20 al 24 de m
 arzo de 2023 bajo el título Being Where You are When You’re There.
SUMMARY:Taller de Roni Horn. Plazo de inscripción abierto
END:VEVENT
END:VCALENDAR
