BEGIN:VCALENDAR
VERSION:2.0
PRODID:icalendar-ruby
CALSCALE:GREGORIAN
METHOD:PUBLISH
BEGIN:VEVENT
DTSTAMP:20260424T210416Z
UID:event-21725-2026-04-25T11:00:00+02:00-2026-04-25T14:00:00+02:00
DTSTART;TZID=Europe/Madrid:20260425T110000
DTEND;TZID=Europe/Madrid:20260425T140000
DESCRIPTION:Taller de Sumi-e Ran\, Orquídea Salvaje en la escuela Garanza 
 Arte impartido por Beatriz Hoyos\, artista y analista plástica con 28 añ
 os de experiencia docente.
SUMMARY:Taller de Sumi-e Ran\, Orquídea Salvaje
END:VEVENT
END:VCALENDAR
