BEGIN:VCALENDAR
VERSION:2.0
PRODID:icalendar-ruby
CALSCALE:GREGORIAN
METHOD:PUBLISH
BEGIN:VEVENT
DTSTAMP:20260421T222431Z
UID:event-22358-2026-04-28T19:00:00+02:00-none
DTSTART;TZID=Europe/Madrid:20260428T190000
DESCRIPTION:El juego está dirigido a jóvenes y adolescentes y su objetivo
  es reflexionar sobre las desigualdades de género\, las relaciones de pod
 er y las violencias que se producen -y a menudo se normalizan- en los ento
 rnos digitales.
SUMMARY:Taller: Escape Room Misión Red Segura
END:VEVENT
END:VCALENDAR
