BEGIN:VCALENDAR
VERSION:2.0
PRODID:icalendar-ruby
CALSCALE:GREGORIAN
METHOD:PUBLISH
BEGIN:VEVENT
DTSTAMP:20260423T102816Z
UID:event-21024-2026-03-14T10:00:00+01:00-2026-03-14T14:00:00+01:00
DTSTART;TZID=Europe/Madrid:20260314T100000
DTEND;TZID=Europe/Madrid:20260314T140000
DESCRIPTION:Se trabajará a través del movimiento consciente y la danza\, 
 la meditación y la observación\, la palabra escrita\, la voz\, además d
 e diferentes herramientas artísticas.
SUMMARY:Taller: La Insurrección de la Presencia: cuerpos feminizados y el 
 derecho de existir
END:VEVENT
END:VCALENDAR
