BEGIN:VCALENDAR
VERSION:2.0
PRODID:icalendar-ruby
CALSCALE:GREGORIAN
METHOD:PUBLISH
BEGIN:VEVENT
DTSTAMP:20260420T162225Z
UID:event-20582-2026-05-29T19:00:00+02:00-none
DTSTART;TZID=Europe/Madrid:20260529T190000
DESCRIPTION:El 29 de mayo será ‘Tente Nublo’ quien suba al escenario. 
 Se trata de un grupo formado por 4 mujeres que fusiona la canción montañ
 esa con la tonada.
SUMMARY:Tente Nublo actúa en el ciclo "Folclore en todas las estaciones"
END:VEVENT
END:VCALENDAR
